Workbook

Sheet Summary variants counts per seq
A1: Average polymorphisms (variants per sequence)
C2: Complete sequences (1-16569) | D2: Control region (16024-576) | E2: HVS-I (16024-16365) | F2: HVS-II (73-340)
A3: Breast cancer | B3: Complete sequences | C3: ='Breast cancer complete (CS)'!D49 -> 24.404255 | D3: ='Breast cancer complete (CS)'!E49 -> 8.2765957 | E3: ='Breast cancer complete (CS)'!F49 -> 3.2439024 | F3: ='Breast cancer complete (CS)'!G49 -> 3.7317073
B4: % | C4: 100 | D4: =D3*C4/C3 -> 33.91456 | E4: =E3*C4/C3 -> 13.292364 | F4: =F3*C4/C3 -> 15.291216
B5: Max | C5: ='Breast cancer complete (CS)'!D50 -> 47 | D5: ='Breast cancer complete (CS)'!E50 -> 15 | E5: ='Breast cancer complete (CS)'!F50 -> 8 | F5: ='Breast cancer complete (CS)'!G50 -> 7
B6: Min | C6: ='Breast cancer complete (CS)'!D51 -> 11 | D6: ='Breast cancer complete (CS)'!E51 -> 3 | E6: ='Breast cancer complete (CS)'!F51 -> 1 | F6: ='Breast cancer complete (CS)'!G51 -> 2
B7: Partial sequences | C7: - | D7: ='Breast cancer control region PS'!D16 -> 10.785714 | E7: ='Breast cancer HVS-I PS'!F14 -> 3.75 | F7: ='Breast cancer HVS-II PS'!F14 -> 4.9166667
B8: Max | C8: - | D8: ='Breast cancer control region PS'!D17 -> 14 | E8: ='Breast cancer HVS-I PS'!F15 -> 7 | F8: ='Breast cancer HVS-II PS'!F15 -> 6
B9: Min | C9: - | D9: ='Breast cancer control region PS'!D18 -> 7 | E9: ='Breast cancer HVS-I PS'!F16 -> 1 | F9: ='Breast cancer HVS-II PS'!F16 -> 3
A10: Controls | B10: Complete sequences | C10: =Controls!D27 -> 27.44 | D10: =Controls!E27 -> 9.6 | E10: =Controls!F27 -> 3.9047619 | F10: =Controls!G27 -> 4.04
B11: % | C11: 100 | D11: =D10*C11/C10 -> 34.985423 | E11: =E10*D11/D10 -> 14.230182 | F11: =F10*E11/E10 -> 14.723032
B12: Max | C12: =Controls!D28 -> 40 | D12: =Controls!E28 -> 15 | E12: =Controls!F28 -> 7 | F12: =Controls!G28 -> 7
B13: Min | C13: =Controls!D29 -> 10 | D13: =Controls!E29 -> 3 | E13: =Controls!F29 -> 1 | F13: =Controls!G29 -> 2

Sheet Descritive statistics 
A1: Descritive statistics polymorphisms counts
B2: Breast cancer | C2: Controls | D2: Eskimo
A3: Average | B3: 24.404255 | C3: 27.44 | D3: 35.306122
A4: Typical error | B4: 1.5351749 | C4: 2.1354781 | D4: 0.64497276
A5: Median | B5: 22 | C5: 30 | D5: 33
A6: Mode | B6: 15 | C6: 36 | D6: 32
A7: Standard deviation | B7: 10.524629 | C7: 10.67739 | D7: 4.5148093
A8: Sample variance | B8: 110.76781 | C8: 114.00667 | D8: 20.383503
A9: Curtosis | B9: -1.4199243 | C9: -1.406699 | D9: -0.55099923
A10: Asymmetry coefficient | B10: 0.25507111 | C10: -0.54189095 | D10: 0.86595058
A11: Rank | B11: 36 | C11: 30 | D11: 17
A12: Minimum | B12: 11 | C12: 10 | D12: 30
A13: Maximum | B13: 47 | C13: 40 | D13: 47
A14: Sum | B14: 1147 | C14: 686 | D14: 1730
... A18: Confidence level (95.0%) | B18: 3.0901467 | C18: 4.4074102 | D18: 1.2968047

Sheet Breast cancer complete (CS)
A1: GenBank ID | B1: Haplogroup | C1: Polymorphisms | D1: Total of variants in mtDNA* | E1: Total of variants in control region* | F1: Total of variants in HVR-I* | G1: Total of variants in HVR-II* | H1: Range | I1: Size | J1: Overall_Rank | K1: Not_Found_Polys | L1: Found_Polys | M1: Remaining_Polys | N1: AAC_In_Remainings | O1: Reference
A2: AB626609.1 | B2: X2e (X2e2b) | C2: A73G, A153G, T195C, A263G, C309CCT, T310C, G513GCA, G709A, A750G, A1438G, G1719A, A2706G, A4769G, T6221C, C6371T, C7028T, T8506C, A8860G, G11719A, C12084T, C12705T, A13966G, T14470C, C14766T, T15310C, A15326G, T16093C, A16183AA, T16189C, C16223T, A16265G, C16278T, T16519C | D2: 33 | E2: 11 | F2: 6 | G2: 5 | H2: 1-16573 | I2: 16573 | J2: 0.9467 | L2: 73G 153G 195C 225A! 263G 750G 1438G 1719A 2706G 4769G 6221C 6371T 7028T 8860G 11719A 12084T 12705T 13966G 14470C 14766T 15310C 15326G 16189C 16223T 16265G 16278T | M2: 309.1CT 310C 513.1CA 709A 3106d 3107C 8506C 16093C 16179.1A 16519C | O2: Imanishi et al. 2011
A3: AB626610.1 | B3: H3u (H3u1) | C3: A263G, C315CC, A750G, A1438G, A4769G, C5899CC, T6776C, A8860G, G9966A, T13260C, T14319C, A15326G, A15380G, C16148T, T16519C | D3: 15 | E3: 4 | F3: 1 | G3: 2 | H3: 1-16570 | I3: 16570 | J3: 0.9326 | K3: 5899.XC | L3: 263G 750G 1438G 4769G 6776C 8860G 9966A 14319C 15326G 15380G 16148T | M3: 310.1C 3106d 3107C 5894.1C 13260C 16519C | O3: Imanishi et al. 2011
A4: EF114270.1 | B4: F1a (F1a1'4) | C4: A73G, A248d, A263G, C309CCT, T310C, CACA514d, A750G, A1438G, G1719A, A2706G, C3970T, C4086T, A4769G, T6392C, G6962A, C7028T, A8860G, G9053A, A9468G, G9548A, G10310A, T10609C, G11719A, G11914A, G12406A, G12630A, C12882T, G13759A, G13928C, T14386C, C14766T, A15220G, A15326G, T15784C, T15787C, G16129A, T16172C, T16304C, T16362C, T16519C | D4: 40 | E4: 11 | F4: 4 | G4: 4 | H4: 1-16565 | I4: 16565 | J4: 0.8916 | K4: 249d | L4: 73G 263G 750G 1438G 2706G 3970T 4086T 4769G 6392C 6962A 7028T 8860G 9053A 9548A 10310A 10609C 11719A 12406A 12882T 13759A 13928C 14766T 15326G 16129A 16172C 16304C | M4: 248d 309.1CT 310C 514d 515d 516d 517d 1719A 3106d 3107C 9468G 11914A 12630A 14386C 15220G 15784C 15787C 16362C 16519C | N4: 9468G [T88A| Codon 1 | COX3 ] | O4: Wang et al. 2007
A5: EF114273.1 | B5: R9b (R9b1b) | C5: A73G, A263G, C309CCT, T310C, A750G, A1438G, T1541C, C2322A, A2706G, C3970T, A4769G, C7028T, A8860G, G11719A, A12555G, T12714C, G13928C, G14162A, C14766T, A15326G, A15924G, T16124C, C16148T, C16184T, T16304C, A16309G, G16390A, T16519C | D5: 28 | E5: 11 | F5: 5 | G5: 5 | H5: 1-16570 | I5: 16570 | J5: 0.9371 | L5: 73G 263G 750G 1438G 1541C 2322A 2706G 3970T 4769G 7028T 8860G 11719A 12714C 13928C 14766T 15326G 16124C 16148T 16304C 16309G 16390A | M5: 309.1CT 310C 3106d 3107C 12555G 14162A 15924G 16184T 16519C | N5: 14162A [A171V| Codon 2 | ND6 ] | O5: Wang et al. 2007
A6: EF114276.1 | B6: D4j (D4j3a) | C6: A73G, A263G, C315CC, G417A, T489C, A750G, A1438G, G1709A, A2706G, G3010A, T4500C, A4769G, C4883T, C5178A, C7028T, C8414T, A8701G, C8702T, A8860G, T9540C, A10398G, C10400T, T10873C, G11696A, G11719A, C12705T, C14668T, C14766T, T14783C, G15043A, G15301A, A15326G, C16184T, C16223T, T16311C, T16362C | D6: 36 | E6: 9 | F6: 3 | G6: 2 | H6: 1-16569 | I6: 16569 | J6: 0.9689 | L6: 73G 263G 489C 750G 1438G 1709A 2706G 3010A 4769G 4883T 5178A 7028T 8414T 8701G 8860G 9540C 10398G 10400T 10873C 11696A 11719A 12705T 14668T 14766T 14783C 15043A 15301A 15326G 16184T 16223T 16311C 16362C | M6: 310.1C 417A 3106d 3107C 4500C 8601R 8702T | N6: 4500C [S11P| Codon 1 | ND2 ] 8702T [T59I| Codon 2 | ATP6 ] | O6: Wang et al. 2007
A7: EF114279.1 | B7: A14 (A14) | C7: A73G, C151T, T152C, A200G, G207A, A235G, A263G, C315CC, CA514d, A663G, A735G, A750G, A1438G, A1736G, A2706G, T4248C, A4769G, A4824G, C7028T, C8794T, A8860G, G11719A, C12705T, C14766T, A15326G, C16223T, C16264T, C16290T, G16319A, T16362C | D7: 30 | E7: 14 | F7: 5 | G7: 7 | H7: 1-16567 | I7: 16567 | J7: 0.9776 | L7: 73G 151T 152C 200G 235G 263G 663G 735G 750G 1438G 1736G 2706G 4248C 4769G 4824G 7028T 8794T 8860G 11719A 12705T 14766T 15326G 16223T 16290T 16319A 16362C | M7: 207A 310.1C 514d 515d 3106d 3107C 16264T | O7: Wang et al. 2007
A8: EF114282.1 | B8: A13 (A13) | C8: A73G, T152C, A200G, A235G, A263G, C309CCT, T310C, CA514d, A663G, A750G, A1438G, A1736G, A2706G, T3150C, T3504C, T4248C, A4769G, A4824G, C7028T, T8756C, C8794T, A8860G, G11719A, C12705T, C14766T, A15326G, T15672C, T16124C, C16223T, C16290T, G16319A, T16362C | D8: 32 | E8: 13 | F8: 5 | G8: 6 | H8: 1-16568 | I8: 16568 | J8: 0.9347 | L8: 73G 152C 200G 235G 263G 663G 750G 1438G 1736G 2706G 3504C 4248C 4769G 4824G 7028T 8794T 8860G 11719A 12705T 14766T 15326G 16223T 16290T 16319A 16362C | M8: 309.1CT 310C 514d 515d 3106d 3107C 3150C 8756C 15672C 16124C | N8: 8756C [I77T| Codon 2 | ATP6 ] 15672C [M309T| Codon 2 | CYTB ] | O8: Wang et al. 2007
A9: EF114285.1 | B9: B5a (B5a2a1a) | C9: A73G, A93G, A210G, A263G, C315CC, CA514d, G709A, A750G, A1438G, A2706G, A3537G, A4769G, C7028T, CCCCCTCTA8281d, G8584A, A8860G, C9189T, T9950C, G9962A, A10398G, G11149A, C11151T, G11719A, A12234G, A13422G, C14149T, C14766T, G14861A, A15235G, A15326G, T16140C, C16187T, T16189C, C16256T, C16266G, T16519C | D9: 36 | E9: 12 | F9: 5 | G9: 4 | H9: 1-16568 | I9: 15568 | J9: 0.8818 | K9: 8281d 8282d 8283d 8284d 8285d 8286d 8287d 8288d 8289d 16266A 16266T | L9: 73G 93G 210G 263G 709A 750G 1438G 2706G 3537G 4769G 7028T 8584A 8860G 9189T 9950C 9962A 10398G 11149A 11151T 11719A 12234G 13422G 14149T 14766T 14861A 15235G 15326G 16140C 16187T 16189C 16256T | M9: 310.1C 514d 515d 2275Y 3106d 3107C 8271d 8272d 8273d 8274d 8275d 8276d 8277d 8278d 8279d 16266G 16519C | O9: Wang et al. 2007
A10: EF114288.1 | B10: F1a (F1a1a1) | C10: A73G, T152C, T195C, A248d, A263G, C309CCT, T310C, CA514d, A750G, A1438G, A2706G, C3970T, C4086T, A4769G, T6392C, G6962A, C7028T, A8149G, A8860G, G9053A, G9548A, G10310A, T10609C, C11215T, G11719A, G12406A, G12820A, C12882T, G13759A, G13928C, C14766T, A15326G, C16108T, G16129A, A16162G, T16172C, C16292T, T16304C, T16519C | D10: 39 | E10: 15 | F10: 6 | G10: 6 | H10: 1-16567 | I10: 16567 | J10: 0.9592 | K10: 249d | L10: 73G 263G 750G 1438G 2706G 3970T 4086T 4769G 6392C 6962A 7028T 8149G 8860G 9053A 9548A 10310A 10609C 11215T 11719A 12406A 12882T 13759A 13928C 14766T 15326G 16108T 16129A 16162G 16172C 16304C | M10: 152C 195C 248d 309.1CT 310C 514d 515d 3106d 3107C 12820A 16292T 16519C | N10: 12820A [A162T| Codon 1 | ND5 ] | O10: Wang et al. 2007
A11: EF429133.1 | B11: B4b (B4b1a2) | C11: A73G, T152C, G207A, A263G, C309CCCT, T310C, G499A, CA514d, A750G, A827G, A1438G, A2706G, A4769G, G4820A, G6023A, T6216C, T6413C, C7028T, ACCCCCTCT8271d, G8485A, A8860G, G9554A, G11719A, G13590A, C14766T, A15326G, C15535T, G15884A, T16136C, A16183C, T16189C, T16217C, T16519C | D11: 33 | E11: 13 | F11: 4 | G11: 5 | H11: 1-16560 | I11: 16560 | J11: 0.833 | K11: 8281d 8282d 8283d 8284d 8285d 8286d 8287d 8288d 8289d | L11: 73G 207A 263G 499A 750G 827G 1438G 2706G 4769G 4820A 6023A 6216C 6413C 7028T 8860G 11719A 13590A 14766T 15326G 15535T 16136C 16189C 16217C | M11: 152C 309.1CCT 310C 514d 515d 3106d 3107C 8271d 8272d 8273d 8274d 8275d 8276d 8277d 8278d 8279d 8485A 9554A 15884A 16183C 16519C | N11: 15884A [A380T| Codon 1 | CYTB ] | O11: Gasparre et al. 2007
A12: EF429136.1 | B12: C7a (C7a2a) | C12: A73G, A248d, A263G, C309CCT, T310C, T489C, A750G, A1438G, A2232AA, A2706G, T3552A, A4715G, A4769G, G5821A, A6338G, C7028T, C7196A, G7853A, G8584A, A8701G, A8860G, T9540C, A9545G, A10398G, C10400T, T10873C, G11719A, G11914A, C12705T, A12810G, A12909G, A13263G, T13635G, G14226A, T14318C, T14470C, C14766T, T14783C, G15043A, G15301A, A15326G, A15487T, T16189C, C16223T, T16298C, C16327T, T16519C | D12: 47 | E12: 11 | F12: 4 | G12: 4 | H12: 1-16570 | I12: 16570 | J12: 0.9711 | K12: 249d 2232.1A | L12: 73G 263G 489C 750G 1438G 2706G 3552A 4715G 4769G 5821A 6338G 7028T 7196A 7853A 8584A 8701G 8860G 9540C 9545G 10398G 10400T 10873C 11719A 11914A 12705T 12810G 12909G 13263G 13635G 14318C 14470C 14766T 14783C 15043A 15301A 15326G 15487T 16189C 16223T 16298C 16327T | M12: 248d 309.1CT 310C 2226.1A 3106d 3107C 14226A 16519C | N12: 14226A [R150C| Codon 1 | ND6 ] | O12: Gasparre et al. 2007
A13: EF429139.1 | B13: B4c (B4c1b2a1) | C13: A73G, T146C, C150T, A263G, C309CCCT, T310C, G709A, A750G, T1119C, A1438G, G1709A, T1716C, A2706G, C3497T, C3571T, A4769G, T6167C, C7028T, C7819T, ACCCCCTCT8271d, T8772C, A8860G, T8951C, G11719A, C14766T, A15326G, G15346A, T16140C, A16182C, A16183C, T16189C, T16217C, G16274A, T16311C, A16335G, T16519C | D13: 36 | E13: 15 | F13: 8 | G13: 5 | H13: 1-16562 | I13: 16562 | J13: 0.8666 | K13: 8281d 8282d 8283d 8284d 8285d 8286d 8287d 8288d 8289d | L13: 73G 146C 150T 263G 709A 750G 1119C 1438G 1709A 1716C 2706G 3497T 3571T 4769G 7028T 8772C 8860G 11719A 14766T 15326G 15346A 16140C 16189C 16217C 16274A 16335G | M13: 309.1CCT 310C 3106d 3107C 6167C 7819T 8271d 8272d 8273d 8274d 8275d 8276d 8277d 8278d 8279d 8951C 16182C 16183C 16311C 16519C | N13: 8951C [V142A| Codon 2 | ATP6 ] | O13: Gasparre et al. 2007
A14: EF660933.1 | B14: H1e (H1e5a) | C14: A263G, C315CC, A750G, A1346G, A1438G, G3010A, G4084A, A4769G, G5460A, T6044C, A8860G, T9110C, A15326G, C16256T, T16519C | D14: 15 | E14: 4 | F14: 1 | G14: 2 | H14: 1-16569 | I14: 16569 | J14: 0.9441 | L14: 263G 750G 1438G 3010A 4769G 5460A 8860G 9110C 15326G 16256T | M14: 310.1C 1346G 3106d 3107C 4084A 6044C 16519C | N14: 4084A [V260I| Codon 1 | ND1 ] | O14: Gasparre et al. 2007
A15: EF660934.1 | B15: H1h (H1h1) | C15: T152C, A263G, C309CCT, T310C, CA514d, A750G, A1438G, G3010A, A4769G, G7013A, A8860G, A11167G, G11914A, T11935G, A14887G, A15326G, T16189C, A16194C, T16243C, C16261T, A16343G, T16519C | D15: 22 | E15: 11 | F15: 5 | G15: 4 | H15: 1-16568 | I15: 16568 | J15: 0.8197 | L15: 263G 750G 1438G 3010A 4769G 7013A 8860G 11914A 15326G | M15: 152C 309.1CT 310C 514d 515d 3106d 3107C 7818R 11167G 11935G 14887G 16189C 16194C 16243C 16261T 16343G 16519C | O15: Gasparre et al. 2007
A16: EF660935.1 | B16: HV1a (HV1a2) | C16: A263G, C315CC, A374G, A750G, A1438G, G1664C, A2706G, G4596A, A4769G, C7028T, A8014T, T8277C, T8279C, A8280C, A8860G, G8994A, A12361G, T12601C, A15218G, A15326G, T15796C, C16067T | D16: 22 | E16: 4 | F16: 1 | G16: 2 | H16: 1-16569 | I16: 16569 | J16: 0.8691 | L16: 263G 750G 1438G 2706G 4596A 4769G 7028T 8014T 8277C 8860G 15218G 15326G 16067T | M16: 310.1C 374G 1664C 3106d 3107C 8279C 8280C 8994A 12361G 12601C 15796C | N16: 12361G [T9A| Codon 1 | ND5 ] 12601C [F89L| Codon 1 | ND5 ] | O16: Gasparre et al. 2007
A17: EF660936.1 | B17: HV1a (HV1a'b'c) | C17: A263G, C309CCT, T310C, A750G, A1438G, A2706G, T3906C, A4769G, T5483C, T6956C, C7028T, A8014T, A8860G, T9018C, G15140A, A15218G, A15326G, A15805G, C16067T, G16129A, C16242T | D17: 21 | E17: 6 | F17: 3 | G17: 3 | H17: 1-16570 | I17: 16570 | J17: 0.8199 | L17: 263G 750G 1438G 2706G 4769G 7028T 8014T 8860G 15218G 15326G 16067T | M17: 309.1CT 310C 3106d 3107C 3906C 5483C 6956C 9018C 15140A 15805G 16129A 16242T | N17: 15140A [V132I| Codon 1 | CYTB ] | O17: Gasparre et al. 2007
A18: EF660937.1 | B18: N1a (N1a3a3) | C18: A73G, T152C, A189G, T195C, G207A, A210G, A263G, C315CC, A750G, A1438G, G1719A, A2706G, A4769G, A5319G, C7028T, T8222C, A8308G, A8860G, C8943T, T10238C, T11025C, T11437C, G11719A, G12501A, C12562G, A12612G, C12705T, A13637G, A13780G, G14560A, C14766T, A15326G, T16086C, C16201T, C16223T, A16265G, C16355T, T16519C | D18: 38 | E18: 14 | F18: 5 | G18: 7 | H18: 1-16569 | I18: 16569 | J18: 0.9704 | K18: 11914A | L18: 73G 152C 189G 195C 204C! 207A 210G 263G 750G 1438G 1719A 2706G 4769G 7028T 8222C 8308G 8860G 8943T 10238C 11025C 11437C 11719A 12501A 12612G 12705T 13637G 13780G 14560A 14766T 15326G 16086C 16201T 16223T 16265G | M18: 310.1C 3106d 3107C 5319G 9119R 12562G 16355T 16519C | N18: 5319G [T284A| Codon 1 | ND2 ] 12562G [L76V| Codon 1 | ND5 ] | O18: Gasparre et al. 2007
A19: EF660938.1 | B19: H3r (H3r1) | C19: A263G, C315CC, A750G, T961C, A1438G, G1888A, A4769G, T6776C, A8860G, A15326G, T15944d, T16519C | D19: 12 | E19: 3 | G19: 2 | H19: 1-16568 | I19: 16568 | J19: 1 | L19: 263G 750G 961C 1438G 1888A 4769G 6776C 8860G 15326G | M19: 310.1C 3106d 3107C 15940d 16519C | O19: Gasparre et al. 2007
A20: EF660939.1 | B20: HV4a (HV4a1) | C20: A263G, C309CCT, T310C, A750G, A1438G, A2706G, T4768C, A4769G, C7028T, T7094C, T8639C, C8794T, A8860G, C12399T, A13527G, C13680T, A15326G, A15442G, C16221T | D20: 19 | E20: 4 | F20: 1 | G20: 3 | H20: 1-16570 | I20: 16570 | J20: 0.9048 | L20: 263G 750G 1438G 2706G 4769G 7028T 7094C 8860G 13680T 15326G 16221T | M20: 309.1CT 310C 3106d 3107C 4768C 8639C 8794T 12399T 13527G 15442G | N20: 4768C [M100T| Codon 2 | ND2 ] 8639C [I38T| Codon 2 | ATP6 ] 8794T [H90Y| Codon 1 | ATP6 ] | O20: Gasparre et al. 2007
A21: EF660940.1 | B21: H5a (H5a4a1) | C21: A263G, C315CC, C456T, T593C, A750G, A1438G, T3753C, T4336C, A4769G, C4832T, A8860G, G13194A, T15139C, A15326G, C16294T, T16304C, C16320T | D21: 17 | E21: 6 | F21: 3 | G21: 2 | H21: 1-16569 | I21: 16569 | J21: 0.9744 | L21: 263G 456T 593C 750G 1438G 3753C 4336C 4769G 8860G 15139C 15326G 16294T 16304C 16320T | M21: 310.1C 3106d 3107C 4832T 13194A | O21: Gasparre et al. 2007
A22: EF660941.1 | B22: T2c(T2c1a2) | C22: A73G, A263G, C315CC, A574C, G709A, A750G, A1438G, G1888A, A2706G, T4216C, A4769G, A4917G, C5817T, G6261A, C7028T, C8455T, G8697A, A8860G, T10463C, C10822T, A11251G, G11719A, A11812G, G13368A, A13973T, A14233G, C14766T, G14905A, A15326G, C15452A, A15607G, G15928A, T16126C, C16292T, C16294T, G16390A, T16519C | D22: 37 | E22: 8 | F22: 3 | G22: 2 | H22: 1-16569 | I22: 16569 | J22: 0.9524 | K22: 573.XC 16296T | L22: 73G 263G 709A 750G 1438G 1888A 2706G 4216C 4769G 4917G 5817T 6261A 7028T 8455T 8697A 8860G 10463C 10822T 11251G 11719A 11812G 13368A 13973T 14233G 14766T 14905A 15326G 15452A 15607G 15928A 16126C 16292T 16294T | M22: 310.1C 574C 3106d 3107C 16390A 16519C | O22: Gasparre et al. 2007
A23: EF660942.1 | B23: X2n (X2n) | C23: C64T, A73G, A153G, T195C, G225A, T226C, C309CCT, T310C, A750G, A1438G, G1719A, A2706G, G4659A, A4769G, A4953G, T6221C, C6371T, C7028T, A8860G, T9903C, G11719A, C12705T, A13966G, T14470C, C14766T, A15326G, C15793T, C15910T, A16183C, T16189C, C16223T, C16266T, C16278T, T16519C | D23: 34 | E23: 14 | F23: 5 | G23: 6 | H23: 1-16570 | I23: 16570 | J23: 0.9639 | L23: 64T 73G 153G 195C 225A 226C 263G! 750G 1438G 1719A 2706G 4659A 4769G 6221C 6371T 7028T 8860G 9903C 11719A 12705T 13966G 14470C 14766T 15326G 15793T 16189C 16223T 16266T 16278T | M23: 309.1CT 310C 3106d 3107C 4953G 15910T 16183C 16519C | N23: 4953G [I162V| Codon 1 | ND2 ] | O23: Gasparre et al. 2007
A24: EF660943.1 | B24: H (H) | C24: C150T, A263G, T310C, A750G, A1438G, A3505G, A4769G, A8860G, A13748G, A15326G, C16222T, T16519C | D24: 12 | E24: 5 | F24: 1 | G24: 3 | H24: 1-16568 | I24: 16568 | J24: 0.8179 | L24: 263G 750G 1438G 4769G 8860G 15326G | M24: 150T 310C 3106d 3107C 3505G 13748G 16222T 16519C | N24: 3505G [T67A| Codon 1 | ND1 ] 13748G [N471S| Codon 2 | ND5 ] | O24: Gasparre et al. 2007
A25: EF660944.1 | B25: N1 (N1a1a1a1) | C25: A73G, T199C, T204C, A263G, C315CC, A574C, T669C, A750G, A1438G, G1719A, T2410C, A2706G, T3336C, A4769G, A5315G, C7028T, C8164T, A8860G, A8901G, G9300A, T10238C, A10398G, G11719A, G12501A, C12705T, A13780G, C14766T, G15043A, A15326G, T15774C, C16147A, T16172C, C16223T, C16248T, C16320T, C16355T, T16519C | D25: 37 | E25: 12 | F25: 6 | G25: 4 | H25: 1-16569 | I25: 16569 | J25: 0.9191 | K25: 152C 573.XC 16147G 16147T | L25: 73G 199C 204C 263G 669C 750G 1438G 1719A 2702A! 2706G 3336C 4769G 5315G 7028T 8164T 8860G 8901G 9300A 10238C 10398G 11719A 12501A 12705T 13780G 14766T 15043A 15326G 16172C 16223T 16248T 16320T 16355T | M25: 310.1C 574C 2410C 3106d 3107C 15774C 16147A 16519C | N25: 15774C [V343A| Codon 2 | CYTB ] | O25: Gasparre et al. 2007
A26: EF660945.1 | B26: HV2 (HV22) | C26: T146C, A263G, C309CCT, T310C, A750G, A1438G, A2706G, A4769G, C4997T, C7028T, A8860G, A15326G, A16038G, T16311C | D26: 14 | E26: 6 | F26: 2 | G26: 4 | H26: 1-16570 | I26: 16570 | J26: 0.9703 | L26: 146C 263G 750G 1438G 2706G 4769G 4997T 7028T 8860G 15326G 16038G 16311C | M26: 309.1CT 310C 3106d 3107C | O26: Gasparre et al. 2007
A27: EF660946.1 | B27: V2 (V2) | C27: T72C, A263G, C315CC, A750G, A1438G, A2124G, A2706G, G4580A, A4769G, G5985A, C7028T, A8860G, T10410C, A13105G, A15326G, C15904T, T16298C | D27: 17 | E27: 4 | F27: 1 | G27: 2 | H27: 1-16569 | I27: 16569 | J27: 0.9355 | L27: 72C 263G 750G 1438G 2706G 4580A 4769G 7028T 8860G 13105G 15326G 15904T 16298C | M27: 310.1C 2124G 3106d 3107C 5985A 7814R 10410C 15843Y | N27: 5985A [V28I| Codon 1 | COX1 ] | O27: Gasparre et al. 2007
A28: EF660947.1 | B28: H7a (H7a1a) | C28: A93G, A263G, C309CCT, T310C, CA514d, T742C, A750G, A1438G, G1719A, A4769G, A4793G, A8860G, A11167G, A15326G, G15930A, C16261T, G16390A, T16519C | D28: 18 | E28: 8 | F28: 1 | G28: 4 | H28: 1-16568 | I28: 16568 | J28: 0.8848 | L28: 93G 263G 750G 1438G 1719A 4769G 4793G 8860G 11167G 15326G 16261T | M28: 309.1CT 310C 514d 515d 742C 3106d 3107C 13466R 15930A 16390A 16519C | O28: Gasparre et al. 2007
A29: EF660948.1 | B29: H13a (H13a2b1) | C29: A263G, C315CC, C456T, G709A, A750G, A1438G, C2259T, T4639C, A4769G, C5901CC, A8860G, T13762G, C14872T, T15001C, A15326G, A16293G, T16311C, A16335G, C16527T | D29: 19 | E29: 7 | F29: 3 | G29: 2 | H29: 1-16570 | I29: 16570 | J29: 0.9067 | L29: 263G 709A 750G 1438G 2259T 4639C 4769G 8860G 13762G 14872T 15001C 15326G 16311C | M29: 310.1C 456T 3106d 3107C 5900.1C 16293G 16335G 16527T | O29: Gasparre et al. 2007
A30: EF660949.1 | B30: H1e (H1e1) | C30: T146C, A263G, C315CC, A750G, A1438G, A1555G, G3010A, A4769G, G5460A, A8512G, A8860G, A15326G, T15813G, C16174T, T16519C | D30: 15 | E30: 5 | F30: 1 | G30: 3 | H30: 1-16569 | I30: 16569 | J30: 0.9448 | L30: 263G 750G 1438G 3010A 4769G 5460A 8512G 8860G 15326G | M30: 146C 310.1C 1555G 3106d 3107C 15813G 16174T 16519C | N30: 15813G [V356G| Codon 2 | CYTB ] | O30: Gasparre et al. 2007
A31: EF660950.1 | B31: U5a(U5a2c2) | C31: A73G, A263G, C315CC, A750G, A1438G, A2706G, T3197C, A3714G, A4769G, C7028T, A8860G, G9477A, C10619T, A10768G, A11467G, G11719A, A12308G, G12372A, T13617C, T14034C, C14766T, A14793G, A15326G, A15791G, T16172C, C16192T, C16256T, C16270T | D31: 28 | E31: 7 | F31: 4 | G31: 2 | H31: 1-16569 | I31: 16569 | J31: 0.9222 | K31: 16526A | L31: 73G 263G 750G 1438G 2706G 3197C 4769G 7028T 8860G 9477A 10619T 10768G 11467G 11719A 12308G 12372A 13617C 14766T 14793G 15326G 16192T 16256T 16270T | M31: 310.1C 3106d 3107C 3714G 9387S 14034C 15791G 16172C | N31: 15791G [I349V| Codon 1 | CYTB ] | O31: Gasparre et al. 2007
A32: EF660951.1 | B32: H44a (H44a) | C32: A263G, C315CC, A750G, A1438G, A4769G, T5442C, A8860G, G9932A, C12562G, C14149T, A15326G, T16519C | D32: 12 | E32: 3 | F32: 2 | G32: 2 | H32: 1-16569 | I32: 16569 | J32: 1 | L32: 263G 750G 1438G 4769G 5442C 8860G 9932A 14149T 15326G | M32: 310.1C 3106d 3107C 12562G 16519C | N32: 12562G [L76V| Codon 1 | ND5 ] | O32: Gasparre et al. 2007
A33: EF660952.1 | B33: J1c (J1c2) | C33: A73G, T152C, G185A, A188G, G228A, A263G, C295T, C315CC, C462T, T489C, A750G, A1438G, A2706G, G3010A, T4216C, A4769G, C7028T, A8860G, A10398G, A11251G, G11719A, A12612G, T12879C, G13708A, C14130T, C14766T, T14798C, A15326G, C15452A, C16069T, T16126C, T16519C | D33: 32 | E33: 13 | G33: 7 | H33: 1-16569 | I33: 16569 | J33: 0.9606 | L33: 73G 185A 188G 228A 263G 295T 462T 489C 750G 1438G 2706G 3010A 4216C 4769G 7028T 8860G 10398G 11251G 11719A 12612G 13708A 14766T 14798C 15326G 15452A 16069T 16126C | M33: 152C 310.1C 3106d 3107C 12879C 14130T 16519C | O33: Gasparre et al. 2007
A34: GU592034.1 | B34: J1c (J1c2c2a) | C34: A73G, T146C, G185A, A188G, G228A, A263G, C295T, C315CC, C462T, T489C, A750G, A1438G, A2706G, G3010A, T4216C, A4769G, C7028T, A8860G, G8865A, A10398G, G10685A, A11251G, G11719A, C12020T, A12612G, T12875C, T13281C, G13708A, A13933G, C14766T, T14798C, A15326G, C15452A, C16069T, T16126C, T16519C | D34: 36 | E34: 13 | F34: 2 | G34: 7 | H34: 1-16569 | I34: 16569 | J34: 1 | L34: 73G 146C 185A 188G 228A 263G 295T 462T 489C 750G 1438G 2706G 3010A 4216C 4769G 7028T 8860G 8865A 10398G 10685A 11251G 11719A 12020T 12612G 13281C 13708A 13933G 14766T 14798C 15326G 15452A 16069T 16126C | M34: 310.1C 3106d 3107C 12875C 16519C | N34: 12875C [I180T| Codon 2 | ND5 ] | O34: Fendt et al. 2011
A35: GU592035.1 | B35: H1 (H1ay) | C35: A263G, C315CC, CA514d, A750G, A1438G, A4769G, A6476G, A8860G, T9708C, C12981T, G15106A, A15326G | D35: 12 | E35: 3 | G35: 2 | H35: 1-16567 | I35: 16567 | J35: 0.917 | K35: 3010A | L35: 263G 750G 1438G 4769G 8860G 9708C 15326G | M35: 310.1C 514d 515d 3106d 3107C 6476G 7379R 12981T 15106A | O35: Fendt et al. 2011
A36: GU592036.1 | B36: R0a (R0a1a3) | C36: T58C, C64T, T146C, A263G, C309CCT, T310C, A750G, A827G, A1438G, T2069C, T2442C, A2706G, T3847C, T4561C, T4703C, A4769G, C7028T, G8292A, A8860G, T9647C, C11761T, C13188T, A13479T, C14766T, A15326G, T16126C, C16355T, T16362C, T16519C | D36: 29 | E36: 10 | F36: 2 | G36: 4 | H36: 1-16570 | I36: 16570 | J36: 0.9674 | L36: 58C 64T 146C 263G 750G 827G 1438G 2069C 2442C 2706G 3847C 4703C 4769G 7028T 8292A 8860G 9647C 11761T 13188T 13479T 14766T 15326G 16126C 16355T 16362C | M36: 309.1CT 310C 3106d 3107C 4561C 5703R 16519C | N36: 4561C [V31A| Codon 2 | ND2 ] | O36: Fendt et al. 2011
A37: GU592037.1 | B37: H1g (H1g1) | C37: A263G, C309CCCCT, T310C, A750G, A1438G, G3010A, A4769G, T8602C, A8860G, T14212C, A15326G, A15684G, A16183C, T16189C, C16193CC, T16519C | D37: 16 | E37: 8 | F37: 3 | G37: 3 | H37: 1-16573 | I37: 16573 | J37: 0.9646 | L37: 263G 750G 1438G 3010A 4769G 8602C 8860G 14212C 15326G 16189C | M37: 309.1CCCT 310C 3106d 3107C 15684G 16182M 16182.1C 16183C 16519C | N37: 15684G [Q313R| Codon 2 | CYTB ] | O37: Fendt et al. 2011
A38: GU592038.1 | B38: H11a (H11a5) | C38: T195C, A263G, C309CCT, T310C, A750G, T961G, A1438G, A4769G, T8448C, A8860G, G13759A, C15040T, A15326G, A16293G, T16311C | D38: 15 | E38: 6 | F38: 2 | G38: 4 | H38: 1-16570 | I38: 16570 | J38: 0.9703 | L38: 195C 263G 750G 961G 1438G 4769G 8448C 8860G 13759A 15040T 15326G 16293G 16311C | M38: 309.1CT 310C 3106d 3107C 15623R | O38: Fendt et al. 2011
A39: GU592039.1 | B39: H5r (H5r) | C39: G207A, A263G, C315CC, C456T, A750G, A1438G, A4769G, A8860G, G9966A, T10410C, C13725T, A15326G, T16304C, T16311C | D39: 14 | E39: 6 | F39: 2 | G39: 3 | H39: 1-16569 | I39: 16569 | J39: 0.97 | L39: 207A 263G 456T 750G 1438G 4769G 8860G 10410C 13725T 15326G 16304C 16311C | M39: 310.1C 3106d 3107C 9966A | N39: 9966A [V254I| Codon 1 | COX3 ] | O39: Fendt et al. 2011
A40: GU592040.1 | B40: H65a (H65a) | C40: A263G, C315CC, A750G, A1438G, G3010A, A4769G, G7805A, A8860G, A15326G, T15784C, T16519C | D40: 11 | E40: 3 | G40: 2 | H40: 1-16569 | I40: 16569 | J40: 1 | L40: 263G 750G 1438G 3010A 4769G 7805A 8860G 15326G 15784C | M40: 310.1C 3106d 3107C 15341Y 16189Y 16519C | O40: Fendt et al. 2011
A41: GU592041.1 | B41: K1a (K1a1b1c) | C41: A73G, C114T, A263G, C309CCT, T310C, C497T, A750G, T1189C, A1438G, A1811G, A2706G, A3480G, A4769G, G5585A, C7028T, A8860G, G9055A, T9698C, A10398G, A10550G, T11299C, A11467G, A11470G, G11719A, G11914A, A12308G, G12372A, C14167T, C14766T, T14798C, A15326G, A15924G, C16222T, T16224C, C16260T, T16311C, T16362C, T16519C | D41: 38 | E41: 12 | F41: 5 | G41: 4 | H41: 1-16570 | I41: 16570 | J41: 0.9687 | K41: 16093C | L41: 73G 114T 263G 497T 750G 1189C 1438G 1811G 2706G 3480G 4769G 5585A 7028T 8860G 9055A 9698C 10398G 10550G 11299C 11467G 11470G 11719A 11914A 12308G 12372A 14167T 14766T 14798C 15326G 15924G 16222T 16224C 16311C | M41: 309.1CT 310C 2145R 2998Y 3106d 3107C 16260T 16362C 16519C | O41: Fendt et al. 2011
A42: GU592042.1 | B42: H3q (H3q1) | C42: T152C, A263G, C315CC, A750G, A1438G, C3970T, A4769G, T6776C, A8860G, G12236A, A13434G, A15326G, T16519C | D42: 13 | E42: 4 | G42: 3 | H42: 1-16569 | I42: 16569 | J42: 0.9589 | L42: 263G 750G 1438G 3970T 4769G 6776C 8860G 12236A 15326G | M42: 152C 310.1C 3106d 3107C 13434G 16390R 16519C | O42: Fendt et al. 2011
A43: GU592043.1 | B43: H5b (H5b) | C43: A263G, C309CCCT, T310C, C456T, G513GCA, A750G, A1438G, A4769G, G5471A, T7258C, G7853A, A8860G, A15326G, T16304C, G16319A | D43: 15 | E43: 7 | F43: 2 | G43: 3 | H43: 1-16573 | I43: 16573 | J43: 0.8726 | L43: 263G 456T 750G 1438G 4769G 5471A 8860G 15326G 16304C | M43: 309.1CCT 310C 513.1CA 3106d 3107C 7258C 7853A 16319A | N43: 7258C [I452T| Codon 2 | COX1 ] 7853A [V90I| Codon 1 | COX2 ] | O43: Fendt et al. 2011
A44: GU592044.1 | B44: H2a (H2a) | C44: A73G, A263G, C315CC, A750G, C4350T, G5460A, C8709T, G8856A, A8860G, T12131C, A15326G | D44: 11 | E44: 3 | G44: 2 | H44: 1-16569 | I44: 16569 | J44: 0.8003 | L44: 263G 750G 8860G 15326G | M44: 73G 310.1C 3106d 3107C 4350T 5460A 8709T 8856A 12131C | N44: 5460A [A331T| Codon 1 | ND2 ] 12131C [S458P| Codon 1 | ND4 ] | O44: Fendt et al. 2011
A45: GU592045.1 | B45: HV11a (HV11a) | C45: A263G, C315CC, A750G, A1438G, A2706G, A4769G, A6040G, C7028T, A8860G, A9000G, A10283G, A15326G, T16311C | D45: 13 | E45: 3 | F45: 1 | G45: 2 | H45: 1-16569 | I45: 16569 | J45: 1 | L45: 263G 750G 1438G 2706G 4769G 6040G 7028T 8860G 9000G 10283G 15326G 16311C | M45: 310.1C 3106d 3107C 12803R | O45: Fendt et al. 2011
A46: GU592046.1 | B46: M35b (M35b2) | C46: A73G, T199C, A263G, C315CC, T489C, A750G, A1438G, A2706G, T3336C, A4769G, G5261A, C7028T, A8701G, A8860G, T9540C, A10398G, C10400T, T10873C, G11719A, G12561A, C12705T, C14766T, T14783C, G15043A, T15289C, G15301A, A15326G, G15928A, G16129A, C16223T, A16230G, A16233G, C16344T, C16355T, T16519C | D46: 35 | E46: 12 | F46: 6 | G46: 3 | H46: 1-16569 | I46: 16569 | J46: 0.9224 | K46: 16304C | L46: 73G 199C 263G 489C 750G 1438G 2706G 4769G 7028T 8701G 8860G 9540C 10398G 10400T 10873C 11719A 12561A 12705T 14766T 14783C 15043A 15289C 15301A 15326G 15928A 16223T | M46: 310.1C 1632Y 3106d 3107C 3336C 5261A 16106R 16129A 16230G 16233G 16304Y 16344T 16355T 16390R 16519C | O46: Fendt et al. 2011
A47: GU592047.1 | B47: J1c (J1c11a) | C47: A73G, G185A, G228A, A263G, C295T, C315CC, C462T, T489C, A750G, A1438G, A2706G, G3010A, T4002C, T4216C, A4769G, C7028T, A8860G, A10398G, A11251G, G11719A, A12612G, G13708A, C14766T, T14798C, T15262C, A15326G, C15452A, C16069T, T16126C, T16224C | D47: 30 | E47: 11 | F47: 3 | G47: 5 | H47: 1-16569 | I47: 16569 | J47: 0.978 | L47: 73G 185A 228A 263G 295T 462T 489C 750G 1438G 2706G 3010A 4216C 4769G 7028T 8860G 10398G 11251G 11719A 12612G 13708A 14766T 14798C 15262C 15326G 15452A 16069T 16126C 16224C | M47: 310.1C 1132Y 3106d 3107C 4002C | O47: Fendt et al. 2011
A48: GU592048.1 | B48: HV (HV) | C48: T146C, A263G, C309CCT, T310C, A750G, A1438G, A2706G, A4769G, G5460A, C7028T, A8860G, A15326G, C16248T | D48: 13 | E48: 5 | F48: 1 | G48: 4 | H48: 1-16570 | I48: 16570 | J48: 0.9063 | L48: 263G 750G 1438G 2706G 4769G 7028T 8860G 15326G | M48: 146C 309.1CT 310C 3106d 3107C 5460A 16248T | N48: 5460A [A331T| Codon 1 | ND2 ] | O48: Fendt et al. 2011
C49: Average | D49: =AVERAGE(D2:D48) -> 24.404255 | E49: =AVERAGE(E2:E48) -> 8.2765957 | F49: =AVERAGE(F2:F48) -> 3.2439024 | G49: =AVERAGE(G2:G42) -> 3.7317073 | H49: Average | I49: =AVERAGE(I2:I48) -> 16547.553
C50: Max | D50: =MAX(D2:D48) -> 47 | E50: =MAX(E2:E48) -> 15 | F50: =MAX(F2:F48) -> 8 | G50: =MAX(G2:G42) -> 7 | H50: Max | I50: =MAX(I2:I48) -> 16573
C51: Min | D51: =MIN(D2:D48) -> 11 | E51: =MIN(E2:E48) -> 3 | F51: =MIN(F2:F48) -> 1 | G51: =MIN(G2:G42) -> 2 | H51: Min | I51: =MIN(I2:I48) -> 15568
C52: Mode | D52: =MODE(D2:D48) -> 15 | E52: =MODE(E2:E48) -> 11 | F52: =MODE(F2:F48) -> 1 | G52: =MODE(G2:G48) -> 2
A53: Important note: In case of haplogroup disagrement, check discordance report.
A54: *without phantom polymorphisms

Sheet Breast cancer control region CS
A1: Sequence | B1: Predicted Haplogroup | C1: Total Variants | D1: Variants
A2: AB626609.1 | B2: R9b (R9b2) | C2: 11 | D2: A73G, A248d, A263G, C309CCT, T310C, ACAC521d, G16129A, T16172C, T16304C, T16362C, T16519C
A3: AB626610.1 | B3: H1a (H1au) | C3: 4 | D3: A263G, C315CC, C16148T, T16519C
A4: EF114270.1 | B4: R9b (R9b2) | C4: 11 | D4: A73G, A248d, A263G, C309CCT, T310C, ACAC521d, G16129A, T16172C, T16304C, T16362C, T16519C
A5: EF114273.1 | B5: R9b (R9b1b) | C5: 11 | D5: A73G, A263G, C309CCT, T310C, T16124C, C16148T, C16184T, T16304C, A16309G, G16390A, T16519C
A6: EF114276.1 | B6: D4j (D4j3) | C6: 9 | D6: A73G, A263G, C315CC, G417A, T489C, C16184T, C16223T, T16311C, T16362C
A7: EF114279.1 | B7: A14 (A14) | C7: 14 | D7: A73G, C151T, T152C, A200G, G207A, A235G, A263G, C315CC, AC523d, C16223T, C16264T, C16290T, G16319A, T16362C
A8: EF114282.1 | B8: A (A+152+16362+200) | C8: 13 | D8: A73G, T152C, A200G, A235G, A263G, C309CCT, T310C, AC523d, T16124C, C16223T, C16290T, G16319A, T16362C
A9: EF114285.1 | B9: B 5a (B5a2a1a) | C9: 12 | D9: A73G, A93G, A210G, A263G, C315CC, AC523d, T16140C, C16187T, T16189C, C16256T, C16266G, T16519C
A10: EF114288.1 | B10: F1a (F1a1a) | C10: 15 | D10: A73G, T152C, T195C, A248d, A263G, C309CCT, T310C, AC523d, C16108T, G16129A, A16162G, T16172C, C16292T, T16304C, T16519C
A11: EF429133.1 | B11: B4b (B4b1a+207) | C11: 13 | D11: A73G, T152C, G207A, A263G, C309CCCT, T310C, G499A, AC523d, T16136C, A16183C, T16189C, T16217C, T16519C
A12: EF429136.1 | B12: C4c (C4c1b) | C12: 11 | D12: A73G, A249d, A263G, T310C, T310TTC, T489C, T16189C, C16223T, T16298C, C16327T, T16519C
A13: EF429139.1 | B13: B4c (B4c1b2a) | C13: 15 | D13: A73G, T146C, C150T, A263G, C309CCCT, T310C, T16140C, A16182C, A16183C, T16189C, T16217C, G16274A, T16311C, A16335G, T16519C
... A48: GU592048.1 | B48: H3w (H3w) | C48: 5 | D48: T146C, A263G, C309CCT, T310C, C16248T
B49: Average | C49: =AVERAGE(C2:C48) -> 8.2765957
B50: Max | C50: =MAX(C2:C48) -> 15
B51: Min | C51: =MIN(C2:C48) -> 3
B52: Mode | C52: =MODE(C2:C48) -> 11

Sheet Breast cancer HVS-I CS
A1: Sequence | B1: Predicted Haplogroup | C1: Total Variants | D1: Variants
A2: AB626609.1 | B2: X2e (X2e2b) | C2: 6 | D2: T16093C, A16183AA, T16189C, C16223T, A16265G, C16278T
A3: AB626610.1 | B3: H1a (H1au) | C3: 1 | D3: C16148T
A4: EF114270.1 | B4: F1a (F1a4a) | C4: 4 | D4: G16129A, T16172C, T16304C, T16362C
A5: EF114273.1 | B5: R9b (R9b1b) | C5: 5 | D5: T16124C, C16148T, C16184T, T16304C, A16309G
A6: EF114276.1 | B6: D4j (D4j3) | C6: 3 | D6: C16184T, C16223T, T16311C
A7: EF114279.1 | B7: A2a (A2ao1) | C7: 5 | D7: C16223T, C16264T, C16290T, G16319A, T16362C
A8: EF114282.1 | B8: A2 (A2+(64)+@16111) | C8: 5 | D8: T16124C, C16223T, C16290T, G16319A, T16362C
A9: EF114285.1 | B9: B5 (B5) | C9: 5 | D9: T16140C, C16187T, T16189C, C16256T, C16266G
A10: EF114288.1 | B10: F1a (F1a1a) | C10: 6 | D10: C16108T, G16129A, A16162G, T16172C, C16292T, T16304C
A11: EF429133.1 | B11: B4b (B4b1) | C11: 4 | D11: T16136C, A16183C, T16189C, T16217C
A12: EF429136.1 | B12: C4c (C4c1b) | C12: 4 | D12: T16189C, C16223T, T16298C, C16327T
A13: EF429139.1 | B13: B4c (B4c1b+16335) | C13: 8 | D13: T16140C, A16182C, A16183C, T16189C, T16217C, G16274A, T16311C, A16335G
... A18: EF660937.1 | B18: N1a (N1a3a3) | C18: 5 | D18: T16086C, C16201T, C16223T, A16265G, C16355T
A19: EF660938.1 *
A20: EF660939.1 | B20: HV4a (HV4a) | C20: 1 | D20: C16221T
A21: EF660940.1 | B21: H5a(H5a4a) | C21: 3 | D21: C16294T, T16304C, C16320T
A22: EF660941.1 | B22: T (T) | C22: 3 | D22: T16126C, C16292T, C16294T
A23: EF660942.1 | B23: X2 (X2n) | C23: 5 | D23: A16183C, T16189C, C16223T, C16266T, C16278T
A24: EF660943.1 | B24: H3p (H3p) | C24: 1 | D24: C16222T
A25: EF660944.1 | B25: L3e (L3e2) | C25: 6 | D25: C16147A, T16172C, C16223T, C16248T, C16320T, C16355T
A26: EF660945.1 | B26: HV22 (HV22) | C26: 2 | D26: A16038G, T16311C
A27: EF660946.1 | B27: HV0 (HV0) | C27: 1 | D27: T16298C
A28: EF660947.1 | B28: H1a (H1as1a) | C28: 1 | D28: C16261T
A29: EF660948.1 | B29: H11a (H11a) | C29: 3 | D29: A16293G, T16311C, A16335G
A30: EF660949.1 | B30: D4h (D4h1) | C30: 1 | D30: C16174T
A31: EF660950.1 | B31: U5a (U5a) | C31: 4 | D31: T16172C, C16192T, C16256T, C16270T
A32: EF660951.1 | B32: J (J) | C32: 2 | D32: C16069T, T16126C
A33: EF660952.1*
A34: GU592034.1 | B34: J (J) | C34: 2 | D34: C16069T, T16126C
A35: GU592035.1*
A36: GU592036.1 | B36: R0a (R0a1a) | C36: 2 | D36: T16126C, C16355T
A37: GU592037.1 | B37: H2a (H2a2a1g) | C37: 3 | D37: A16183C, T16189C, C16193CC
A38: GU592038.1 | B38: H11a (H11a) | C38: 2 | D38: A16293G, T16311C
A39: GU592039.1 | B39: H5 (H5+16311) | C39: 2 | D39: T16304C, T16311C
A40: GU592040.1 *
A41: GU592041.1 | B41: K1a (K1a1b1c) | C41: 5 | D41: C16222T, T16224C, C16260T, T16311C, T16362C
A42: GU592042.1*
A43: GU592043.1 | B43: H5 (H5) | C43: 2 | D43: T16304C, G16319A
A44: GU592044.1*
A45: GU592045.1 | B45: H2a(H2a+152 16311) | C45: 1 | D45: T16311C
A46: GU592046.1 | B46: N11a (N11a) | C46: 6 | D46: G16129A, C16223T, A16230G, A16233G, C16344T, C16355T
A47: GU592047.1 | B47: J1c (J1c11) | C47: 3 | D47: C16069T, T16126C, T16224C
A48: GU592048.1 | B48: H1a (H1ah1) | C48: 1 | D48: C16248T
B49: Average | C49: =AVERAGE(C2:C48) -> 3.2439024
B50: Max | C50: =MAX(C2:C48) -> 8
B51: Min | C51: =MIN(C2:C48) -> 1
B52: Mode | C52: =MODE(C2:C48) -> 1
A54: *The following sequences contain only regions either identical or no homology to rCRS.
A55: Sequence | B55: Haplogroup
A56: *EF660951.1 | B56: H2a (H2a2a1)
A57: *GU592044.1 | B57: H2a (H2a2a1)
A58: *GU592040.1 | B58: H2a (H2a2a1)
A59: *GU592035.1 | B59: H2a (H2a2a1)
A60: *EF660938.1 | B60: H2a (H2a2a1)
A61: *GU592042.1 | B61: H2a (H2a2a1)

Sheet Breast cancer HVS-II CS
A1: Sequence | B1: Predicted Haplogroup | C1: Total Variants | D1: Variants
A2: AB626609.1 | B2: U4a (U4a2) | C2: 5 | D2: A153G, T195C, A263G, T310C, T310TTC
A3: AB626610.1 | B3: H2a (H2a2a) | C3: 2 | D3: A263G, C315CC
A4: EF114270.1 | B4: C4a (C4a2b2) | C4: 4 | D4: A249d, A263G, T310C, T310TTC
A5: EF114273.1 | B5: R9b (R9b1b) | C5: 5 | D5: T16124C, C16148T, C16184T, T16304C, A16309G
A6: EF114276.1 | B6: H2a (H2a2a) | C6: 2 | D6: A263G, C315CC
A7: EF114279.1 | B7: A14 (A14) | C7: 7 | D7: C151T, T152C, A200G, G207A, A235G, A263G, C315CC
A8: EF114282.1 | B8: A (A+152+16362+200) | C8: 6 | D8: T152C, A200G, A235G, A263G, T310C, T310TTC
A9: EF114285.1 | B9: B5a (B5a2a) | C9: 4 | D9: A93G, A210G, A263G, C315CC
A10: EF114288.1 | B10: C4a (C4a2b2) | C10: 6 | D10: T152C, T195C, A249d, A263G, T310C, T310TTC
A11: EF429133.1 | B11: E1a (E1a2a4) | C11: 5 | D11: T152C, G207A, A263G, T310C, C311CTCC
A12: EF429136.1 | B12: C4a (C4a2b2) | C12: 4 | D12: A249d, A263G, T310C, T310TTC
A13: EF429139.1 | B13: M62a (M62a) | C13: 5 | D13: T146C, C150T, A263G, T310C, C311CTCC
... A48: GU592048.1 | B48: H2a (H2a1+146) | C48: 4 | D48: T146C, A263G, T310C, T310TTC
B49: Average | C49: =AVERAGE(C2:C48) -> 3.6595745
B50: Max | C50: =MAX(C2:C48) -> 7
B51: Min | C51: =MIN(C2:C48) -> 2
B52: Mode | C52: =MODE(C2:C48) -> 2

Sheet Breast cancer control region PS
A1: GenBank ID | B1: Haplogroup | C1: Polymorphisms | D1: Total of variants without phantom polymorphisms | E1: Region | F1: Range | G1: Size | H1: Overall_Rank | I1: Not_Found_Polys | J1: Found_Polys | K1: Remaining_Polys | L1: AAC_In_Remainings | M1: Reference
A2: HG825991.1 | B2: R9 (R9) | C2: A73G, T152C, A183G, G184A, G185A, T204C, A263G, T310TCC, C16218T, A16289G, T16304C, G16526A | D2: 12 | E2: Control region | F2: 16007-414 | G2: 976 | H2: 0.5707 | J2: 263G | K2: 73G 152C 183G 184A 185A 204C 310.1CC 16218T 16289G 16304C 16526A | M2: Ghatak et al. 2014
A3: HG825992.1 | B3: D4e (D4e1a2) | C3: A56d, T58A, G71GG, A73G, G94A, A189G, A214G, A263G, C315CC, T401d, T16092C, C16223T, T16311C, T16362C | D3: 14 | E3: Control region | F3: 16011-410 | G3: 968 | H3: 0.5932 | J3: 263G | K3: 56d 58A 65.1G 73G 94A 189G 214G 310.1C 398d 16092C 16223T 16311C 16362C | M3: Ghatak et al. 2014
A4: HG825993.1 | B4: B4c (B4c2) | C4: A73G, T152C, A263G, C315CC, T401d, C16147T, A16183C, C16184A, T16189C, T16217C, A16235G, T16519C | D4: 12 | E4: Control region | F4: 16011-409 | G4: 967 | H4: 0.5991 | J4: 263G | K4: 73G 152C 310.1C 398d 16147T 16183C 16184A 16189C 16217C 16235G 16519C | M4: Ghatak et al. 2014
A5: HG825994.1 | B5: U4a (U4a2a) | C5: A73G, T152C, T195C, A263G, C285CC, C309CCT, T310C, T16092C, C16187T, T16519C | D5: 10 | E5: Control region | F5: 16011-407 | G5: 965 | H5: 0.6264 | J5: 263G | K5: 73G 152C 195C 284.1C 309.1CT 310C 398d 16092C 16187T 16519C | M5: Ghatak et al. 2014
A6: HG825995.1 | B6: Z (Z+152) | C6: A73G, T152C, A249d, A263G, A291AA, C315CC, C16185T, T16189d, C16223T, C16260T, T16298C, T16519C | D6: 12 | E6: Control region | F6: 16007-407 | G6: 965 | H6: 0.6143 | J6: 263G | K6: 73G 152C 248d 285.1A 310.1C 398d 16185T 16189d 16223T 16260T 16298C 16519C | M6: Ghatak et al. 2014
A7: HG825996.1 | B7: B4c (B4c2) | C7: A73G, T152C, A263G, C315CC, T401d, C16147T, A16183C, C16184A, T16189C, T16217C, A16235G, T16519C | D7: 12 | E7: Control region | F7: 16005-407 | G7: 965 | H7: 0.5991 | J7: 263G | K7: 73G 152C 310.1C 398d 16147T 16183C 16184A 16189C 16217C 16235G 16519C | M7: Ghatak et al. 2014
A8: HG825997.1 | B8: D4j (D4j1b2) | C8: A73G, G185A, A263G, C315CC, C16223T, A16258d, A16272G, T16519C | D8: 8 | E8: Control region | F8: 16006-399 | G8: 962 | H8: 0.6325 | J8: 263G | K8: 73G 185A 310.1C 397T 16223T 16258d 16272G 16519C | M8: Ghatak et al. 2014
A9: HG825998.1 | B9: U4a (U4a2a) | C9: A73G, T152C, T195C, A263G, C285CC, C309CCT, T310C, T16092C, C16187T, T16519C | D9: 10 | E9: Control region | F9: 16011-409 | G9: 967 | H9: 0.6264 | J9: 263G | K9: 73G 152C 195C 284.1C 309.1CT 310C 398d 16092C 16187T 16519C | M9: Ghatak et al. 2014
A10: HG825999.1 | B10: B4c (B4c2) | C10: A73G, T152C, A263G, C315CC, C16147T, A16183C, C16184A, T16189C, T16217C, A16235G, T16519C | D10: 11 | E10: Control region | F10: 16006-424 | G10: 987 | H10: 0.5991 | J10: 263G | K10: 73G 152C 310.1C 16147T 16183C 16184A 16189C 16217C 16235G 16519C | M10: Ghatak et al. 2014
A11: HG826000.1 | B11: U2b (U2b2) | C11: A73G, T146C, T152C, A234G, A263G, C309CCT, T310C, A16051G, T16093C, T16209C, C16239T, T16352C, C16353T | D11: 13 | E11: Control region | F11: 16011-410 | G11: 968 | H11: 0.5711 | J11: 263G | K11: 73G 146C 152C 234G 309.1CT 310C 16051G 16093C 16209C 16239T 16352C 16353T | M11: Ghatak et al. 2014
A12: HG826001.1 | B12: D4j (D4j1b2) | C12: A73G, G185A, A263G, C315CC, C16223T, A16258d, A16272G, T16519C | D12: 8 | E12: Control region | F12: 16006-399 | G12: 962 | H12: 0.6325 | J12: 263G | K12: 73G 185A 310.1C 397T 16223T 16258d 16272G 16519C | M12: Ghatak et al. 2014
A13: HG826002.1 | B13: C7a (C7a1a) | C13: A73G, T146C, A153G, A249d, A263G, C315CC, C16223T, T16298C, C16327T, T16519C | D13: 10 | E13: Control region | F13: 16008-410 | G13: 961 | H13: 0.6081 | J13: 263G | K13: 73G 146C 153G 248d 310.1C 398d 408G 16223T 16298C 16327T 16519C | M13: Ghatak et al. 2014
... A15: HG826004.1 | B15: Z (Z+152) | C15: A73G, T152C, A249d, A263G, A291AA, C315CC, C16185T, T16189d, C16223T, C16260T, T16298C, T16519C | D15: 12 | E15: Control region | F15: 16007-407 | G15: 965 | H15: 0.6143 | J15: 263G | K15: 73G 152C 248d 285.1A 310.1C 398d 16185T 16189d 16223T 16260T 16298C 16519C | M15: Ghatak et al. 2014
C16: Average | D16: =AVERAGE(D2:D15) -> 10.785714
C17: Max | D17: =MAX(D2:D15) -> 14
C18: Min | D18: =MIN(D2:D15) -> 7
C19: Mode | D19: =MODE(D2:D15) -> 12
A21: Important note: In case of haplogroup disagrement, check discordance report.

Sheet Breast cancer HVS-I PS
A1: GenBank ID | B1: Haplogroup MITOMASTER | C1: Haplogroup HAPLOGREP | D1: Polymorphisms MITOMASTER | E1: Polymorphisms HAPLOGREP | F1: Total of variants without phantom polymorphisms | G1: Region | H1: Range | I1: Size | J1: Overall_Rank | K1: Not_Found_Polys | L1: Found_Polys | M1: Remaining_Polys | N1: AAC_In_Remainings | O1: Reference
A2: DQ143184.1 | B2: H1e (H1e+16129) | C2: HV4a2a | D2: G16129A, T16311C | E2: 16129A, 16311C | F2: 2 | G2: HVS-I | H2: 16007-16421 | I2: 414 | J2: 0.5203 | K2: 263G 750G 1438G 2706G 4769G 7028T 7094C 7805A 8860G 15326G 16287T | L2: 16129A 16221T! 16311C | O2: Darvishi et al. 2015
A3: DQ143185.1 | B3: H2a (H2a+152 16311) | C3: H2a+152 16311 | D3: T16311C | E3: 16011d, 16311C | F3: 1 | G3: HVS-I | H3: 16007-16411 | I3: 404 | J3: 0.5159 | K3: 152C 263G 750G 4769G 8860G 15326G | L3: 16311C | M3: 16011d | O3: Darvishi et al. 2015
A4: DQ143186.1 | B4: U2b (U2b2) | C4: U2b2 | D4: A16051G, T16209C, C16239T, T16352C, C16353T | E4: 16051G, 16209C, 16239T, 16352C, 16353T | F4: 5 | G4: HVS-I | H4: 16007-16421 | I4: 414 | J4: 0.5611 | K4: 73G 146C 152C 234G 263G 750G 1438G 1811G 1888A 4769G 5186T 7028T 8860G 9094T 9614G 11467G 11719A 12106T 12308G 12372A 12793C 13194A 13656C 14766T 15049T 15326G 15930A | L4: 2706G! 16051G 16209C 16239T 16352C 16353T | O4: Darvishi et al. 2015
A5: DQ143187.1 | B5: U2b (U2b2) | C5: H2a2a1 | D5: A16011d, A16051G, T16209C, C16239T, G16255A, T16352C, C16353T | E5: 16011d, 16051G, 16209C, 16239T, 16255A, 16352C, 16353T, 16422A | F5: 7 | G5: HVS-I | H5: 16007-16423 | I5: 416 | J5: 0.5 | M5: 16011d 16051G 16209C 16239T 16255A 16352C 16353T 16422A | O5: Darvishi et al. 2015
A6: DQ143188.1 | B6: H2a (H2a2a1) | C6: H2a2a1 | D6: G16036GG, A16183C | E6: 16011d, 16012d, 16032.1G, 16183C | F6: 2 | G6: HVS-I | H6: 16013-16188 | I6: 175 | J6: 0.5 | M6: 16011d 16012d 16032.1G 16183C | O6: Darvishi et al. 2015
A7: DQ143189.1 | B7: H2a (H2a2a1) | C7: H2a2a1 | D7: G16036GG, A16183C | E7: 16011d, 16012d, 16032.1G, 16183C | F7: 2 | G7: HVS-I | H7: 16013-16189 | I7: 176 | J7: 0.5 | M7: 16011d 16012d 16032.1G 16183C | O7: Darvishi et al. 2015
A8: DQ143190.1 | B8: T1a (T1a9) | C8: H2a2a1g | D8: A16038AA, A16183C, C16186T, T16189C, T16249C | E8: 16036.1A, 16183C, 16186T, 16189C, 16249C | F8: 5 | G8: HVS-I | H8: 16007-16421 | I8: 414 | J8: 0.5685 | L8: 16189C | M8: 16036.1A 16183C 16186T 16249C | O8: Darvishi et al. 2015
A9: DQ143191.1 | B9: U1a (U1a) | C9: H2a2a1g | D9: A16183C, C16186T, T16189C, T16249C, G16390A | E9: 16183C, 16186T, 16189C, 16249C, 16390A | F9: 5 | G9: HVS-I | H9: 16007-16421 | I9: 414 | J9: 0.5538 | L9: 16189C | M9: 16183C 16186T 16249C 16390A | O9: Darvishi et al. 2015
A10: DQ143192.1 | B10: U7a (U7a3b) | C10: U7a3b | D10: A16207G, A16309G, A16318T | E10: 16207G, 16309G, 16318T, 16422A | F10: 3 | G10: HVS-I | H10: 16020-16421 | I10: 401 | J10: 0.5423 | K10: 73G 151T 152C 263G 750G 980C 1438G 1811G 2706G 3741T 3834A 4769G 5360T 7028T 8137T 8684T 8860G 10142T 11467G 11719A 12308G 12372A 12618A 13500C 14569A 14766T 15326G | L10: 16207G 16309G 16318T | M10: 16422A | O10: Darvishi et al. 2015
A11: DQ143193.1 | B11: U7a (U7a3b) | C11: H2a2a1 | D11: A16207G, A16293G, A16309G, A16318T, T16409TT | E11: 16207G, 16293G, 16309G, 16318T, 16408.1T | F11: 5 | G11: HVS-I | H11: 16027-16421 | I11: 394 | J11: 0.5 | M11: 16207G 16293G 16309G 16318T 16408.1T | O11: Darvishi et al. 2015
A12: DQ143194.1 | B12: U7 (U7) | C12: H2a2a1 | D12: A16309G, A16318T, A16343G, T16362C | E12: 16309G, 16318T, 16343G, 16362C | F12: 4 | G12: HVS-I | H12: 16028-16421 | I12: 393 | J12: 0.5 | M12: 16309G 16318T 16343G 16362C | O12: Darvishi et al. 2015
A13: DQ143195.1 | B13: U7 (U7) | C13: H2a2a1 | D13: A16309G, A16318T, A16343G, T16362C | E13: 16309G, 16318T, 16343G, 16362C | F13: 4 | G13: HVS-I | H13: 16028-16421 | I13: 393 | J13: 0.5 | M13: 16309G 16318T 16343G 16362C | O13: Darvishi et al. 2015
E14: Average | F14: =AVERAGE(F2:F13) -> 3.75
A15: Important note: In case of haplogroup disagrement, check discordance report. | E15: Max | F15: =MAX(F2:F13) -> 7
E16: Min | F16: =MIN(F2:F13) -> 1
E17: Mode | F17: =MODE(F2:F13) -> 5

Sheet Breast cancer HVS-II PS
A1: GenBank ID | B1: Haplogroup MITOMASTER | C1: Haplogroup HAPLOGREP | D1: Polymorphisms MITOMASTER | E1: Polymorphisms HAPLOGREP | F1: Total of variants without phantom polymorphisms | G1: Region | H1: Range | I1: Size | J1: Overall_Rank | K1: Not_Found_Polys | L1: Found_Polys | M1: Remaining_Polys | N1: AAC_In_Remainings | O1: Reference
A2: DQ143196.1 | B2: T2b (T2b3a) | C2: H2a2a | D2: A73G, C151T, T152C, A263G, C315CC | E2: 38d, 73G, 151T, 152C, 263G, 310.1C, 430A | F2: 5 | G2: HVS-II | H2: 33-429 | I2: 396 | J2: 0.7292 | L2: 263G | M2: 38d 73G 151T 152C 310.1C 430A | O2: Darvishi et al. 2015
A3: DQ143197.1 | B3: N13 (N13) | C3: H2a2a | D3: A73G, C151T, T152C, A178G, A263G, C315CC | E3: 73G, 151T, 152C, 178G, 263G, 310.1C | F3: 6 | G3: HVS-II | H3: 33-429 | I3: 396 | J3: 0.6571 | L3: 263G | M3: 73G 151T 152C 178G 310.1C | O3: Darvishi et al. 2015
A4: DQ143198.1 | B4: E1a (E1a2a4) | C4: H2a2a | D4: A49T, A73G, T152C, A263G, C309CCT, T310C | E4: 49T, 73G, 152C, 263G, 309.1CT, 310C | F4: 6 | G4: HVS-II | H4: 40-429 | I4: 389 | J4: 0.7028 | L4: 263G | M4: 49T 73G 152C 309.1CT 310C | O4: Darvishi et al. 2015
A5: DQ143199.1 | B5: H32 (H32) | C5: J2a1a1a | D5: A49T, A73G, T152C, A263G, C315CC | E5: 49T, 73G, 152C, 263G, 310.1C | F5: 5 | G5: HVS-II | H5: 37-429 | I5: 392 | J5: 0.869 | K5: 150T 195C 215G 295T 319C 489C 513A 750G 1438G 1850C 2706G 4216C 4769G 7028T 7476T 7789A 8860G 10398G 10499G 11251G 11377A 11719A 12612G 13708A 13722G 14133G 14766T 15257A 15326G 15452A 16069T 16126C 16145A 16231C 16261T | L5: 73G 152C 263G 310.1T | M5: 49T | O5: Darvishi et al. 2015
A6: DQ143200.1 | B6: T2b (T2b+150) | C6: J2a1a1a | D6: A73G, C150T, A263G, C315CC | E6: 73G, 150T, 263G, 310.1C, 430A | F6: 4 | G6: HVS-II | H6: 38-429 | I6: 391 | J6: 0.8397 | K6: 152C 195C 215G 295T 319C 489C 513A 750G 1438G 1850C 2706G 4216C 4769G 7028T 7476T 7789A 8860G 10398G 10499G 11251G 11377A 11719A 12612G 13708A 13722G 14133G 14766T 15257A 15326G 15452A 16069T 16126C 16145A 16231C 16261T | L6: 73G 150T 263G 310.1T | M6: 430A | O6: Darvishi et al. 2015
A7: DQ143201.1 | B7: H2a (H2a1f2) | C7: J2a1a1a | D7: G92T, A93C, G94C, C150T, A263G, C315CC | E7: 92T, 93C, 94C, 150T, 263G, 310.1C, 414N, 430A | F7: 6 | G7: HVS-II | H7: 76-429 | I7: 353 | J7: 0.9723 | K7: 73G 152C 195C 215G 295T 319C 489C 513A 750G 1438G 1850C 2706G 4216C 4769G 7028T 7476T 7789A 8860G 10398G 10499G 11251G 11377A 11719A 12612G 13708A 13722G 14133G 14766T 15257A 15326G 15452A 16069T 16126C 16145A 16231C 16261T | L7: 150T 263G 310.1T | M7: 92T 93C 94C 414N 430A | O7: Darvishi et al. 2015
A8: DQ143202.1 | B8: H32 (H32) | C8: J2a1a1a | D8: A49T, A73G, T152C, A263G, C315CC | E8: 37G, 49T, 73G, 152C, 263G, 310.1C | F8: 5 | G8: HVS-II | H8: 33-429 | I8: 396 | J8: 0.869 | K8: 150T 195C 215G 295T 319C 489C 513A 750G 1438G 1850C 2706G 4216C 4769G 7028T 7476T 7789A 8860G 10398G 10499G 11251G 11377A 11719A 12612G 13708A 13722G 14133G 14766T 15257A 15326G 15452A 16069T 16126C 16145A 16231C 16261T | L8: 73G 152C 263G 310.1T | M8: 37G 49T | O8: Darvishi et al. 2015
A9: DQ143203.1 | B9: H32 (H32) | C9: J2a1a1a | D9: A49T, A73G, T152C, A263G, C315CC | E9: 37G, 49T, 73G, 152C, 263G, 310.1C, 430A | F9: 5 | G9: HVS-II | H9: 33-429 | I9: 396 | J9: 0.869 | K9: 150T 195C 215G 295T 319C 489C 513A 750G 1438G 1850C 2706G 4216C 4769G 7028T 7476T 7789A 8860G 10398G 10499G 11251G 11377A 11719A 12612G 13708A 13722G 14133G 14766T 15257A 15326G 15452A 16069T 16126C 16145A 16231C 16261T | L9: 73G 152C 263G 310.1T | M9: 37G 49T 430A | O9: Darvishi et al. 2015
A10: DQ143204.1 | B10: U4a (U4a2) | C10: H2a2a | D10: T152C, A175d, T195C, A263G, C309CCT, T310C | E10: 152C, 175d, 195C, 263G, 309.1CT, 310C | F10: 6 | G10: HVS-II | H10: 142-429 | I10: 287 | J10: 0.7431 | L10: 263G | M10: 152C 175d 195C 309.1CT 310C | O10: Darvishi et al. 2015
A11: DQ143205.1 | B11: H11a (H11a+152) | C11: J2a1a1a | D11: T152C, T195C, A263G, C315CC, A425T | E11: 152C, 195C, 263G, 310.1C | F11: 5 | G11: HVS-II | H11: 97-429 | I11: 332 | J11: 0.9618 | K11: 73G 150T 215G 295T 319C 489C 513A 750G 1438G 1850C 2706G 4216C 4769G 7028T 7476T 7789A 8860G 10398G 10499G 11251G 11377A 11719A 12612G 13708A 13722G 14133G 14766T 15257A 15326G 15452A 16069T 16126C 16145A 16231C 16261T | L11: 152C 195C 263G 310.1T | O11: Darvishi et al. 2015
A12: DQ143206.1 | B12: H2a (H2a2a) | C12: J2a1a1a | D12: A137d, A263G, C315CC | E12: 125G, 137d, 263G, 310.1C | F12: 3 | G12: HVS-II | H12: 125-429 | I12: 304 | J12: 1.101 | K12: 73G 150T 152C 195C 215G 295T 319C 489C 513A 750G 1438G 1850C 2706G 4216C 4769G 7028T 7476T 7789A 8860G 10398G 10499G 11251G 11377A 11719A 12612G 13708A 13722G 14133G 14766T 15257A 15326G 15452A 16069T 16126C 16145A 16231C 16261T | L12: 263G 310.1T | M12: 125G 137d | O12: Darvishi et al. 2015
A13: DQ143207.1 | B13: H2a (H2a2a) | C13: J2a1a1a | D13: A263G, C315CC, A397d | E13: 263G, 310.1C, 395d | F13: 3 | G13: HVS-II | H13: 148-429 | I13: 281 | J13: 1.101 | K13: 73G 150T 152C 195C 215G 295T 319C 489C 513A 750G 1438G 1850C 2706G 4216C 4769G 7028T 7476T 7789A 8860G 10398G 10499G 11251G 11377A 11719A 12612G 13708A 13722G 14133G 14766T 15257A 15326G 15452A 16069T 16126C 16145A 16231C 16261T | L13: 263G 310.1T | M13: 395d | O13: Darvishi et al. 2015
E14: Total average | F14: =AVERAGE(F2:F13) -> 4.9166667
A15: Important note: In case of haplogroup disagrement, check discordance report. | E15: Max | F15: =MAX(F2:F13) -> 6
E16: Min | F16: =MIN(F2:F13) -> 3
E17: Mode | F17: =MODE(F2:F13) -> 5

Sheet Controls
A1: GenBank ID | B1: Haplogroup | C1: Polymorphisms | D1: Total of variants in mtDNA* | E1: Total of variants in control region* | F1: Total of variants in HVR-I* | G1: Total of variants in HVR-II* | H1: Range | I1: Size | J1: Overall_Rank | K1: Not_Found_Polys | L1: Found_Polys | M1: Remaining_Polys | N1: AAC_In_Remainings | O1: Reference | P1: Notes
A2: EF114271.1 | B2: F1a (F1a1'4) | C2: A73G, A248d, A263G, C309CCT, T310C, CACA514d, A750G, A1438G, G1719A, A2706G, C3970T, C4086T, A4769G, T6392C, G6962A, C7028T, A8860G, G9053A, A9468G, G9548A, G10310A, T10609C, G11719A, G11914A, G12406A, G12630A, C12882T, G13759A, G13928C, T14386C, C14766T, A15220G, A15326G, T15784C, T15787C, G16129A, T16172C, T16304C, T16362C, T16519C | D2: 40 | E2: 11 | F2: 4 | G2: 4 | H2: 1-16565 | I2: 16565 | J2: 0.8916 | K2: 249d | L2: 73G 263G 750G 1438G 2706G 3970T 4086T 4769G 6392C 6962A 7028T 8860G 9053A 9548A 10310A 10609C 11719A 12406A 12882T 13759A 13928C 14766T 15326G 16129A 16172C 16304C | M2: 248d 309.1CT 310C 514d 515d 516d 517d 1719A 3106d 3107C 9468G 11914A 12630A 14386C 15220G 15784C 15787C 16362C 16519C | N2: 9468G [T88A| Codon 1 | COX3 ] | O2: Wang et al. 2007 | P2: para-cancerous normal tissue of EF114270.1
A3: EF114272.1 | B3: F1a (F1a1'4) | C3: A73G, A248d, A263G, C309CCT, T310C, CACA514d, A750G, A1438G, G1719A, A2706G, C3970T, C4086T, A4769G, T6392C, G6962A, C7028T, A8860G, G9053A, A9468G, G9548A, G10310A, T10609C, G11719A, G11914A, G12406A, G12630A, C12882T, G13759A, G13928C, T14386C, C14766T, A15220G, A15326G, T15784C, T15787C, G16129A, T16172C, T16304C, T16362C, T16519C | D3: 40 | E3: 11 | F3: 4 | G3: 4 | H3: 1-16565 | I3: 16565 | J3: 0.8916 | K3: 249d | L3: 73G 263G 750G 1438G 2706G 3970T 4086T 4769G 6392C 6962A 7028T 8860G 9053A 9548A 10310A 10609C 11719A 12406A 12882T 13759A 13928C 14766T 15326G 16129A 16172C 16304C | M3: 248d 309.1CT 310C 514d 515d 516d 517d 1719A 3106d 3107C 9468G 11914A 12630A 14386C 15220G 15784C 15787C 16362C 16519C | N3: 9468G [T88A| Codon 1 | COX3 ] | O3: Wang et al. 2007 | P3: distant normal tissue of EF114270.1
A4: EF114274.1 | B4: R9b (R9b1b) | C4: A73G, A263G, C309CCT, T310C, A750G, A1438G, T1541C, C2322A, A2706G, C3970T, A4769G, C7028T, A8860G, G11719A, A12555G, T12714C, G13928C, G14162A, C14766T, A15326G, A15924G, T16124C, C16148T, C16184T, T16304C, A16309G, G16390A, T16519C | D4: 28 | E4: 11 | F4: 5 | G4: 3 | H4: 1-16570 | I4: 16570 | J4: 0.9371 | L4: 73G 263G 750G 1438G 1541C 2322A 2706G 3970T 4769G 7028T 8860G 11719A 12714C 13928C 14766T 15326G 16124C 16148T 16304C 16309G 16390A | M4: 309.1CT 310C 3106d 3107C 12555G 14162A 15924G 16184T 16519C | N4: 14162A [A171V| Codon 2 | ND6 ] | O4: Wang et al. 2007 | P4: para-cancerous normal tissue of EF114273.1
A5: EF114275.1 | B5: R9b (R9b1b) | C5: A73G, A263G, C309CCT, T310C, A750G, A1438G, T1541C, C2322A, A2706G, C3970T, A4769G, C7028T, A8860G, G11719A, A12555G, T12714C, G13928C, G14162A, C14766T, A15326G, A15924G, T16124C, C16148T, C16184T, T16304C, A16309G, G16390A, T16519C | D5: 28 | E5: 11 | F5: 5 | G5: 3 | H5: 1-16570 | I5: 16570 | J5: 0.9371 | L5: 73G 263G 750G 1438G 1541C 2322A 2706G 3970T 4769G 7028T 8860G 11719A 12714C 13928C 14766T 15326G 16124C 16148T 16304C 16309G 16390A | M5: 309.1CT 310C 3106d 3107C 12555G 14162A 15924G 16184T 16519C | N5: 14162A [A171V| Codon 2 | ND6 ] | O5: Wang et al. 2007 | P5: distant normal tissue of EF114273.1
A6: EF114277.1 | B6: D4j (D4j3a) | C6: A73G, A263G, C315CC, G417A, T489C, A750G, A1438G, G1709A, A2706G, G3010A, T4500C, A4769G, C4883T, C5178A, C7028T, C8414T, A8701G, C8702T, A8860G, T9540C, A10398G, C10400T, T10873C, G11696A, G11719A, C12705T, C14668T, C14766T, T14783C, G15043A, G15301A, A15326G, C16184T, C16223T, T16311C, T16362C | D6: 36 | E6: 9 | F6: 3 | G6: 2 | H6: 1-16569 | I6: 16569 | J6: 0.9689 | L6: 73G 263G 489C 750G 1438G 1709A 2706G 3010A 4769G 4883T 5178A 7028T 8414T 8701G 8860G 9540C 10398G 10400T 10873C 11696A 11719A 12705T 14668T 14766T 14783C 15043A 15301A 15326G 16184T 16223T 16311C 16362C | M6: 310.1C 417A 3106d 3107C 4500C 8601R 8702T | N6: 4500C [S11P| Codon 1 | ND2 ] 8702T [T59I| Codon 2 | ATP6 ] | O6: Wang et al. 2007 | P6: distant normal tissue of EF114276.1
A7: EF114278.1 | B7: D4j (D4j3a) | C7: A73G, A263G, C315CC, G417A, T489C, A750G, A1438G, G1709A, A2706G, G3010A, T4500C, A4769G, C4883T, C5178A, C7028T, C8414T, A8701G, C8702T, A8860G, T9540C, A10398G, C10400T, T10873C, G11696A, G11719A, C12705T, C14668T, C14766T, T14783C, G15043A, G15301A, A15326G, C16184T, C16223T, T16311C, T16362C | D7: 36 | E7: 9 | F7: 3 | G7: 2 | H7: 1-16569 | I7: 16569 | J7: 0.9689 | L7: 73G 263G 489C 750G 1438G 1709A 2706G 3010A 4769G 4883T 5178A 7028T 8414T 8701G 8860G 9540C 10398G 10400T 10873C 11696A 11719A 12705T 14668T 14766T 14783C 15043A 15301A 15326G 16184T 16223T 16311C 16362C | M7: 310.1C 417A 3106d 3107C 4500C 8702T | N7: 4500C [S11P| Codon 1 | ND2 ] 8702T [T59I| Codon 2 | ATP6 ] | O7: Wang et al. 2007 | P7: para-cancerous normal tissue of EF114276.1
A8: EF114280.1 | B8: A14 (A14) | C8: A73G, C151T, T152C, A200G, G207A, A235G, A263G, C315CC, CA514d, A663G, A735G, A750G, A1438G, A1736G, A2706G, T4248C, A4769G, A4824G, C7028T, C8794T, A8860G, G11719A, C12705T, C14766T, A15326G, C16223T, C16264T, C16290T, G16319A, T16362C | D8: 30 | E8: 14 | F8: 5 | G8: 7 | H8: 1-16567 | I8: 16567 | J8: 0.9776 | L8: 73G 151T 152C 200G 235G 263G 663G 735G 750G 1438G 1736G 2706G 4248C 4769G 4824G 7028T 8794T 8860G 11719A 12705T 14766T 15326G 16223T 16290T 16319A 16362C | M8: 207A 310.1C 514d 515d 3106d 3107C 16264T | O8: Wang et al. 2007 | P8: para-cancerous normal tissue of EF114279.1
A9: EF114281.1 | B9: A14 (A14) | C9: A73G, C151T, T152C, A200G, G207A, A235G, A263G, C315CC, CA514d, A663G, A735G, A750G, A1438G, A1736G, A2706G, T4248C, A4769G, A4824G, C7028T, C8794T, A8860G, G11719A, C12705T, C14766T, A15326G, C16223T, C16264T, C16290T, G16319A, T16362C | D9: 30 | E9: 14 | F9: 5 | G9: 7 | H9: 1-16567 | I9: 16567 | J9: 0.9776 | L9: 73G 151T 152C 200G 235G 263G 663G 735G 750G 1438G 1736G 2706G 4248C 4769G 4824G 7028T 8794T 8860G 11719A 12705T 14766T 15326G 16223T 16290T 16319A 16362C | M9: 207A 310.1C 514d 515d 3106d 3107C 16264T | O9: Wang et al. 2007 | P9: distant normal tissue of EF114279.1
A10: EF114283.1 | B10: A13 (A13) | C10: A73G, T152C, A200G, A235G, A263G, C309CCT, T310C, CA514d, A663G, A750G, A1438G, A1736G, A2706G, T3150C, T3504C, T4248C, A4769G, A4824G, C7028T, T8756C, C8794T, A8860G, G11719A, C12705T, C14766T, A15326G, T15672C, T16124C, C16223T, C16290T, G16319A, T16362C | D10: 32 | E10: 13 | F10: 5 | G10: 6 | H10: 1-16568 | I10: 16568 | J10: 0.9347 | L10: 73G 152C 200G 235G 263G 663G 750G 1438G 1736G 2706G 3504C 4248C 4769G 4824G 7028T 8794T 8860G 11719A 12705T 14766T 15326G 16223T 16290T 16319A 16362C | M10: 309.1CT 310C 514d 515d 3106d 3107C 3150C 8756C 15672C 16124C | N10: 8756C [I77T| Codon 2 | ATP6 ] 15672C [M309T| Codon 2 | CYTB ] | O10: Wang et al. 2007 | P10: para-cancerous normal tissue of EF114282.1
A11: EF114284.1 | B11: A13 (A13) | C11: A73G, T152C, A200G, A235G, A263G, C309CCT, T310C, CA514d, A663G, A750G, A1438G, A1736G, A2706G, T3150C, T3504C, T4248C, A4769G, A4824G, C7028T, T8756C, C8794T, A8860G, G11719A, C12705T, C14766T, A15326G, T15672C, T16124C, C16223T, C16290T, G16319A, T16362C | D11: 32 | E11: 13 | F11: 5 | G11: 6 | H11: 1-16568 | I11: 16568 | J11: 0.9347 | L11: 73G 152C 200G 235G 263G 663G 750G 1438G 1736G 2706G 3504C 4248C 4769G 4824G 7028T 8794T 8860G 11719A 12705T 14766T 15326G 16223T 16290T 16319A 16362C | M11: 309.1CT 310C 514d 515d 3106d 3107C 3150C 8756C 15672C 16124C | N11: 8756C [I77T| Codon 2 | ATP6 ] 15672C [M309T| Codon 2 | CYTB ] | O11: Wang et al. 2007 | P11: distant normal tissue of EF114282.1
A12: EF114286.1 | B12: B5a (B5a2a1a) | C12: A73G, A93G, A210G, A263G, C315CC, CA514d, G709A, A750G, A1438G, A2706G, A3537G, A4769G, C7028T, CCCCCTCTA8281d, G8584A, A8860G, C9189T, T9950C, G9962A, A10398G, G11149A, C11151T, G11719A, A12234G, A13422G, C14149T, C14766T, G14861A, A15235G, A15326G, T16140C, C16187T, T16189C, C16256T, C16266G, T16519C | D12: 36 | E12: 12 | F12: 5 | G12: 4 | H12: 1-16558 | I12: 16558 | J12: 0.8818 | K12: 8281d 8282d 8283d 8284d 8285d 8286d 8287d 8288d 8289d 16266A 16266T | L12: 73G 93G 210G 263G 709A 750G 1438G 2706G 3537G 4769G 7028T 8584A 8860G 9189T 9950C 9962A 10398G 11149A 11151T 11719A 12234G 13422G 14149T 14766T 14861A 15235G 15326G 16140C 16187T 16189C 16256T | M12: 310.1C 514d 515d 3106d 3107C 8271d 8272d 8273d 8274d 8275d 8276d 8277d 8278d 8279d 16266G 16519C | O12: Wang et al. 2007 | P12: para-cancerous normal tissue of EF114285.1
A13: EF114287.1 | B13: B5a (B5a2a1a) | C13: A73G, A93G, A210G, A263G, C315CC, CA514d, G709A, A750G, A1438G, A2706G, A3537G, A4769G, C7028T, CCCCCTCTA8281d, G8584A, A8860G, C9189T, T9950C, G9962A, A10398G, G11149A, C11151T, G11719A, A12234G, A13422G, C14149T, C14766T, G14861A, A15235G, A15326G, T16140C, C16187T, T16189C, C16256T, C16266G, T16519C | D13: 36 | E13: 12 | F13: 5 | G13: 4 | H13: 1-16558 | I13: 16558 | J13: 0.8818 | K13: 8281d 8282d 8283d 8284d 8285d 8286d 8287d 8288d 8289d 16266A 16266T | L13: 73G 93G 210G 263G 709A 750G 1438G 2706G 3537G 4769G 7028T 8584A 8860G 9189T 9950C 9962A 10398G 11149A 11151T 11719A 12234G 13422G 14149T 14766T 14861A 15235G 15326G 16140C 16187T 16189C 16256T | M13: 310.1C 514d 515d 3106d 3107C 8271d 8272d 8273d 8274d 8275d 8276d 8277d 8278d 8279d 16266G 16519C | O13: Wang et al. 2007 | P13: distant normal tissue of EF114285.1
A14: EF114289.1 | B14: F1a (F1a1a1) | C14: A73G, T152C, T195C, A248d, A263G, C309CCT, T310C, CA514d, A750G, A1438G, A2706G, C3970T, C4086T, A4769G, T6392C, G6962A, C7028T, A8149G, A8860G, G9053A, G9548A, G10310A, T10609C, C11215T, G11719A, G12406A, G12820A, C12882T, G13759A, G13928C, C14766T, A15326G, C16108T, G16129A, A16162G, T16172C, C16292T, T16304C, T16519C | D14: 39 | E14: 15 | F14: 6 | G14: 6 | H14: 1-16567 | I14: 16567 | J14: 0.9592 | K14: 249d | L14: 73G 263G 750G 1438G 2706G 3970T 4086T 4769G 6392C 6962A 7028T 8149G 8860G 9053A 9548A 10310A 10609C 11215T 11719A 12406A 12882T 13759A 13928C 14766T 15326G 16108T 16129A 16162G 16172C 16304C | M14: 152C 195C 248d 309.1CT 310C 514d 515d 3106d 3107C 12820A 16292T 16519C | N14: 12820A [A162T| Codon 1 | ND5 ] | O14: Wang et al. 2007 | P14: para-cancerous normal tissue of EF114288.1
A15: GU592019.1 | B15: J1c (J1c2c2a) | C15: A73G, T146C, G185A, A188G, G228A, A263G, C295T, C315CC, C462T, T489C, A750G, A1438G, A2706G, G3010A, T4216C, A4769G, C7028T, A8860G, G8865A, A10398G, G10685A, A11251G, G11719A, C12020T, A12612G, T13281C, G13708A, A13933G, C14766T, T14798C, A15326G, C15452A, C16069T, T16126C, T16519C | D15: 35 | E15: 13 | F15: 2 | G15: 7 | H15: 1-16569 | I15: 16569 | J15: 1 | L15: 73G 146C 185A 188G 228A 263G 295T 462T 489C 750G 1438G 2706G 3010A 4216C 4769G 7028T 8860G 8865A 10398G 10685A 11251G 11719A 12020T 12612G 13281C 13708A 13933G 14766T 14798C 15326G 15452A 16069T 16126C | M15: 310.1C 3106d 3107C 16519C | O15: Fendt et al. 2011 | P15: LCM normal of GU592034.1
A16: GU592020.1 | B16: H1a (H1ay) | C16: A263G, C309CCT, T310C, CA514d, A750G, A1438G, A4769G, A6476G, A8860G, T9708C, C12981T, G15106A, A15326G | D16: 13 | E16: 4 | G16: 3 | H16: 1-16568 | I16: 16568 | J16: 0.8805 | K16: 3010A | L16: 263G 750G 1438G 4769G 8860G 9708C 15326G | M16: 309.1CT 310C 514d 515d 3106d 3107C 6476G 12981T 15106A | O16: Fendt et al. 2011 | P16: LCM normal of GU592035.1
A17: GU592023.1 | B17: H11a (H11a5) | C17: T195C, A263G, C309CCT, T310C, A750G, T961G, A1438G, A4769G, T8448C, A8860G, G13759A, C15040T, A15326G, A16293G, T16311C | D17: 15 | E17: 6 | F17: 2 | G17: 4 | H17: 1-16570 | I17: 16570 | J17: 0.9703 | L17: 195C 263G 750G 961G 1438G 4769G 8448C 8860G 13759A 15040T 15326G 16293G 16311C | M17: 309.1CT 310C 3106d 3107C 15623R 16391R | O17: Fendt et al. 2011 | P17: LCM normal of GU592038.1
A18: GU592025.1 | B18: H65a (H65a) | C18: A263G, C315CC, A750G, A1438G, G3010A, A4769G, G7805A, A8860G, A15326G, T15784C, T16519C | D18: 11 | E18: 3 | G18: 2 | H18: 1-16569 | I18: 16569 | J18: 1 | L18: 263G 750G 1438G 3010A 4769G 7805A 8860G 15326G 15784C | M18: 310.1C 3106d 3107C 16519C | O18: Fendt et al. 2011 | P18: LCM normal of GU592040.1
A19: GU592026.1 | B19: K1a (K1a1b1c) | C19: A73G, C114T, A263G, C309CCT, T310C, C497T, A750G, T1189C, A1438G, A1811G, A2706G, A3480G, A4769G, G5585A, C7028T, A8860G, G9055A, T9698C, A10398G, A10550G, T11299C, A11467G, A11470G, G11719A, G11914A, A12308G, G12372A, C14167T, C14766T, T14798C, A15326G, A15924G, C16222T, T16224C, C16260T, T16311C, T16362C, T16519C | D19: 38 | E19: 12 | F19: 4 | G19: 4 | H19: 1-16570 | I19: 16570 | J19: 0.9687 | K19: 16093C | L19: 73G 114T 263G 497T 750G 1189C 1438G 1811G 2706G 3480G 4769G 5585A 7028T 8860G 9055A 9698C 10398G 10550G 11299C 11467G 11470G 11719A 11914A 12308G 12372A 14167T 14766T 14798C 15326G 15924G 16222T 16224C 16311C | M19: 309.1CT 310C 3106d 3107C 16260T 16362C 16519C | O19: Fendt et al. 2011 | P19: LCM normal of GU592041.1
A20: GU592027.1 | B20: H3q (H3q1) | C20: T152C, A263G, C315CC, A750G, A1438G, C3970T, A4769G, T6776C, A8860G, G12236A, A13434G, A15326G, T16519C | D20: 13 | E20: 4 | G20: 3 | H20: 1-16569 | I20: 16569 | J20: 0.9589 | L20: 263G 750G 1438G 3970T 4769G 6776C 8860G 12236A 15326G | M20: 152C 310.1C 3106d 3107C 13434G 16519C | O20: Fendt et al. 2011 | P20: LCM normal of GU592042.1
A21: GU592028.1 | B21: H5b (H5b) | C21: A263G, C309CCCT, T310C, C456T, G513GCA, A750G, A1438G, A4769G, G5471A, T7258C, G7853A, A8860G, A15326G, T16304C, G16319A | D21: 15 | E21: 7 | F21: 2 | G21: 3 | H21: 1-16573 | I21: 16573 | J21: 0.8726 | L21: 263G 456T 750G 1438G 4769G 5471A 8860G 15326G 16304C | M21: 309.1CCT 310C 513.1CA 3106d 3107C 7258C 7853A 16319A | N21: 7258C [I452T| Codon 2 | COX1 ] 7853A [V90I| Codon 1 | COX2 ] | O21: Fendt et al. 2011 | P21: LCM normal of GU592043.1
A22: GU592029.1 | B22: H2a (H2a) | C22: A73G, A263G, C315CC, A750G, C4350T, G5460A, C8709T, G8856A, A8860G, A15326G | D22: 10 | E22: 3 | G22: 2 | H22: 1-16569 | I22: 16569 | J22: 0.8003 | L22: 263G 750G 8860G 15326G | M22: 73G 310.1C 3106d 3107C 4350T 5460A 8709T 8856A | N22: 5460A [A331T| Codon 1 | ND2 ] | O22: Fendt et al. 2011 | P22: LCM normal of GU592044.1
A23: GU592030.1 | B23: HV11a (HV11a) | C23: A263G, C309CCT, T310C, A750G, A1438G, A2706G, A4769G, A6040G, C7028T, A8860G, A9000G, A10283G, A15326G, T16311C | D23: 14 | E23: 4 | F23: 1 | G23: 3 | H23: 1-16570 | I23: 16570 | J23: 0.9716 | L23: 263G 750G 1438G 2706G 4769G 6040G 7028T 8860G 9000G 10283G 15326G 16311C | M23: 215R 309.1CT 310C 3106d 3107C | O23: Fendt et al. 2011 | P23: LCM normal of GU592045.1
A24: GU592031.1 | B24: M35b (M35b2) | C24: A73G, T199C, A263G, C315CC, T489C, A750G, A1438G, A2706G, T3336C, A4769G, G5261A, C7028T, A8701G, A8860G, T9540C, A10398G, C10400T, T10873C, G11719A, G12561A, C12705T, C14766T, T14783C, G15043A, T15289C, G15301A, A15326G, G15928A, G16129A, C16223T, A16230G, A16233G, T16304C, C16344T, C16355T, T16519C | D24: 36 | E24: 13 | F24: 7 | G24: 3 | H24: 1-16569 | I24: 16569 | J24: 0.9151 | L24: 73G 199C 263G 489C 750G 1438G 2706G 4769G 7028T 8701G 8860G 9540C 10398G 10400T 10873C 11719A 12561A 12705T 14766T 14783C 15043A 15289C 15301A 15326G 15928A 16223T 16304C | M24: 310.1C 3106d 3107C 3336C 5102R 5261A 5390R 16129A 16230G 16233G 16344T 16355T 16519C | O24: Fendt et al. 2011 | P24: LCM normal of GU592046.1
A25: GU592032.1 | B25: J1c (J1c11a) | C25: A73G, G185A, G228A, A263G, C295T, C315CC, C462T, T489C, A750G, A1438G, A2706G, G3010A, T4002C, T4216C, A4769G, C7028T, A8860G, A10398G, A11251G, G11719A, A12612G, G13708A, C14766T, T14798C, T15262C, A15326G, C15452A, C16069T, T16126C, T16224C | D25: 30 | E25: 11 | F25: 3 | G25: 5 | H25: 1-16569 | I25: 16569 | J25: 0.978 | L25: 73G 185A 228A 263G 295T 462T 489C 750G 1438G 2706G 3010A 4216C 4769G 7028T 8860G 10398G 11251G 11719A 12612G 13708A 14766T 14798C 15262C 15326G 15452A 16069T 16126C 16224C | M25: 152Y 310.1C 1578R 3106d 3107C 4002C | O25: Fendt et al. 2011 | P25: LCM normal of GU592047.1
A26: GU592033.1 | B26: HV (HV) | C26: T146C, A263G, C309CCCT, T310C, A750G, A1438G, A2706G, A4769G, G5460A, C7028T, A8860G, A15326G, C16248T | D26: 13 | E26: 5 | F26: 1 | G26: 4 | H26: 1-16571 | I26: 16571 | J26: 0.9063 | L26: 263G 750G 1438G 2706G 4769G 7028T 8860G 15326G | M26: 146C 309.1CCT 310C 3106d 3107C 5460A 16248T | N26: 5460A [A331T| Codon 1 | ND2 ] | O26: Fendt et al. 2011 | P26: LCM normal of GU592048.1
C27: Total average | D27: =AVERAGE(D2:D26) -> 27.44 | E27: =AVERAGE(E2:E26) -> 9.6 | F27: =AVERAGE(F2:F26) -> 3.9047619 | G27: =AVERAGE(G2:G26) -> 4.04
C28: Max | D28: =MAX(D2:D26) -> 40 | E28: =MAX(E2:E26) -> 15 | F28: =MAX(F2:F26) -> 7 | G28: =MAX(G2:G26) -> 7
C29: Min | D29: =MIN(D2:D26) -> 10 | E29: =MIN(E2:E26) -> 3 | F29: =MIN(F2:F26) -> 1 | G29: =MIN(G2:G26) -> 2
C30: Mode | D30: =MODE(D2:D26) -> 36 | E30: =MODE(E2:E26) -> 11 | F30: =MODE(F2:F26) -> 5 | G30: =MODE(G2:G26) -> 4

Sheet Controls control region
A1: Sequence | B1: Predicted Haplogroup | C1: Total Variants | D1: Variants
A2: EF114271.1 | B2: R9b (R9b2) | C2: 11 | D2: A73G, A248d, A263G, C309CCT, T310C, ACAC521d, G16129A, T16172C, T16304C, T16362C, T16519C
A3: EF114272.1 | B3: R9b (R9b2) | C3: 11 | D3: A73G, A248d, A263G, C309CCT, T310C, ACAC521d, G16129A, T16172C, T16304C, T16362C, T16519C
A4: EF114274.1 | B4: R9b (R9b1b) | C4: 11 | D4: A73G, A263G, C309CCT, T310C, T16124C, C16148T, C16184T, T16304C, A16309G, G16390A, T16519C
A5: EF114275.1 | B5: R9b (R9b1b) | C5: 11 | D5: A73G, A263G, C309CCT, T310C, T16124C, C16148T, C16184T, T16304C, A16309G, G16390A, T16519C
A6: EF114277.1 | B6: D4j (D4j3) | C6: 9 | D6: A73G, A263G, C315CC, G417A, T489C, C16184T, C16223T, T16311C, T16362C
A7: EF114278.1 | B7: D4j (D4j3) | C7: 9 | D7: A73G, A263G, C315CC, G417A, T489C, C16184T, C16223T, T16311C, T16362C
A8: EF114280.1 | B8: A14 (A14) | C8: 14 | D8: A73G, C151T, T152C, A200G, G207A, A235G, A263G, C315CC, AC523d, C16223T, C16264T, C16290T, G16319A, T16362C
A9: EF114281.1 | B9: A14 (A14) | C9: 14 | D9: A73G, C151T, T152C, A200G, G207A, A235G, A263G, C315CC, AC523d, C16223T, C16264T, C16290T, G16319A, T16362C
A10: EF114283.1 | B10: A (A+152+16362+200) | C10: 13 | D10: A73G, T152C, A200G, A235G, A263G, C309CCT, T310C, AC523d, T16124C, C16223T, C16290T, G16319A, T16362C
A11: EF114284.1 | B11: A (A+152+16362+200) | C11: 13 | D11: A73G, T152C, A200G, A235G, A263G, C309CCT, T310C, AC523d, T16124C, C16223T, C16290T, G16319A, T16362C
A12: EF114286.1 | B12: B5 (B5a2a1a) | C12: 12 | D12: A73G, A93G, A210G, A263G, C315CC, AC523d, T16140C, C16187T, T16189C, C16256T, C16266G, T16519C
A13: EF114287.1 | B13: B5a (B5a2a1a) | C13: 12 | D13: A73G, A93G, A210G, A263G, C315CC, AC523d, T16140C, C16187T, T16189C, C16256T, C16266G, T16519C
... A26: GU592033.1 | B26: H3w (H3w) | C26: 5 | D26: T146C, A263G, C309CCCT, T310C, C16248T
B27: Total average | C27: =AVERAGE(C2:C26) -> 9.6
B28: Max | C28: =MAX(C2:C26) -> 15
B29: Min | C29: =MIN(C2:C26) -> 3
B30: Mode | C30: =MODE(C2:C26) -> 11

Sheet Controls HVS-I
A1: Sequence | B1: Predicted Haplogroup | C1: Total Variants | D1: Variants
A2: EF114271.1 | B2: F1a (F1a4a) | C2: 4 | D2: G16129A, T16172C, T16304C, T16362C
A3: EF114272.1 | B3: F1a (F1a4a) | C3: 4 | D3: G16129A, T16172C, T16304C, T16362C
A4: EF114274.1 | B4: R9b (R9b1b) | C4: 5 | D4: T16124C, C16148T, C16184T, T16304C, A16309G
A5: EF114275.1 | B5: R9b (R9b1b) | C5: 5 | D5: T16124C, C16148T, C16184T, T16304C, A16309G
A6: EF114277.1 | B6: D4j (D4j3) | C6: 3 | D6: C16184T, C16223T, T16311C
A7: EF114278.1 | B7: D4j (D4j3) | C7: 3 | D7: C16184T, C16223T, T16311C
A8: EF114280.1 | B8: A2a (A2ao1) | C8: 5 | D8: C16223T, C16264T, C16290T, G16319A, T16362C
A9: EF114281.1 | B9: A2a (A2ao1) | C9: 5 | D9: C16223T, C16264T, C16290T, G16319A, T16362C
A10: EF114283.1 | B10: A2 (A2+(64)+@16111) | C10: 5 | D10: T16124C, C16223T, C16290T, G16319A, T16362C
A11: EF114284.1 | B11: A2 (A2+(64)+@16111) | C11: 5 | D11: T16124C, C16223T, C16290T, G16319A, T16362C
A12: EF114286.1 | B12: B5 (B5) | C12: 5 | D12: T16140C, C16187T, T16189C, C16256T, C16266G
A13: EF114287.1 | B13: B5 (B5) | C13: 5 | D13: T16140C, C16187T, T16189C, C16256T, C16266G
... A15: GU592019.1 | B15: J (J) | C15: 2 | D15: C16069T, T16126C
A16: GU592020.1*
A17: GU592023.1 | B17: H11a (H11a) | C17: 2 | D17: A16293G, T16311C
A18: GU592025.1*
A19: GU592026.1 | B19: K1a (K1a1b1c) | C19: 4 | D19: C16222T, T16224C, C16260T, T16311C
A20: GU592027.1 *
A21: GU592028.1 | B21: H5 (H5) | C21: 2 | D21: T16304C, G16319A
A22: GU592029.1 *
A23: GU592030.1 | B23: H2a (H2a+152 16311) | C23: 1 | D23: T16311C
A24: GU592031.1 | B24: I4a (I4a1) | C24: 7 | D24: G16129A, C16223T, A16230G, A16233G, T16304C, C16344T, C16355T
A25: GU592032.1 | B25: J1c (J1c11) | C25: 3 | D25: C16069T, T16126C, T16224C
A26: GU592033.1 | B26: H1a (H1ah1) | C26: 1 | D26: C16248T
B27: Average | C27: =AVERAGE(C2:C26) -> 3.9047619
B28: Max | C28: =MAX(C2:C26) -> 7
B29: Min | C29: =MIN(C2:C26) -> 1
B30: Mode | C30: =MODE(C2:C26) -> 5
A32: *The following sequences contain only regions either identical or no homology to rCRS.
A33: Sequence | B33: Haplogroup
A34: GU592025.1 | B34: H2a (H2a2a1)
A35: GU592029.1 | B35: H2a (H2a2a1)
A36: GU592020.1 | B36: H2a (H2a2a1)
A37: GU592027.1 | B37: H2a (H2a2a1)

Sheet Controls HVS-II
A1: Sequence | B1: Predicted Haplogroup | C1: Total Variants | D1: Variants
A2: EF114271.1 | B2: C4a (C4a2b2) | C2: 4 | D2: A249d, A263G, T310C, T310TTC
A3: EF114272.1 | B3: C4a (C4a2b2) | C3: 4 | D3: A249d, A263G, T310C, T310TTC
A4: EF114274.1 | B4: B4a (B4a1c3a) | C4: 3 | D4: A263G, T310C, T310TTC
A5: EF114275.1 | B5: B4a (B4a1c3a) | C5: 3 | D5: A263G, T310C, T310TTC
A6: EF114277.1 | B6: H2a (H2a2a) | C6: 2 | D6: A263G, C315CC
A7: EF114278.1 | B7: H2a (H2a2a) | C7: 2 | D7: A263G, C315CC
A8: EF114280.1 | B8: A14 (A14) | C8: 7 | D8: C151T, T152C, A200G, G207A, A235G, A263G, C315CC
A9: EF114281.1 | B9: A14 (A14) | C9: 7 | D9: C151T, T152C, A200G, G207A, A235G, A263G, C315CC
A10: EF114283.1 | B10: A (A+152+16362+200) | C10: 6 | D10: T152C, A200G, A235G, A263G, T310C, T310TTC
A11: EF114284.1 | B11: A (A+152+16362+200) | C11: 6 | D11: T152C, A200G, A235G, A263G, T310C, T310TTC
A12: EF114286.1 | B12: B5 (B5a2a) | C12: 4 | D12: A93G, A210G, A263G, C315CC
A13: EF114287.1 | B13: B5a (B5a2a) | C13: 4 | D13: A93G, A210G, A263G, C315CC
... A26: GU592033.1 | B26: M62a (M62a) | C26: 4 | D26: T146C, A263G, T310C, C311CTCC
B27: Average | C27: =AVERAGE(Controls!G2:G26) -> 4.04
B28: Max | C28: =MAX(Controls!G2:G26) -> 7
B29: Min | C29: =MIN(Controls!G2:G26) -> 2
B30: Mode | C30: =MODE(C2:C26) -> 4

Sheet Eskimo
A1: GenBank ID | B1: Haplogroup MITOMASTER | C1: Haplogroup HAPLOGREP | D1: Polymorphisms MITOMASTER | E1: Polymorphisms HAPLOGREP | F1: Total of variants without phantom polymorphisms | G1: Range | H1: Size | I1: Overall_Rank | J1: Not_Found_Polys | K1: Found_Polys | L1: Remaining_Polys | M1: AAC_In_Remainings | N1: Reference
A2: EU095539.1 | B2: D2a (D2a2) | C2: D2a2 | D2: A73G, A263G, C315CC, T489C, A750G, A1438G, A2706G, G3010A, G3316A, A4769G, C4883T, G4991A, G5147A, C5178A, C7028T, C7493T, C8414T, A8701G, C8703T, A8860G, C9536T, T9540C, A10398G, C10400T, T10873C, C11215T, G11719A, A11959G, C12705T, C14668T, C14766T, T14783C, G15043A, G15301A, A15326G, G16129A, C16223T, T16271C, T16362C | E2: 73G, 263G, 310.1C, 489C, 750G, 1438G, 2706G, 3010A, 3106d, 3107C, 3316A, 4769G, 4883T, 4991A, 5147A, 5178A, 7028T, 7493T, 8414T, 8701G, 8703T, 8860G, 9536T, 9540C, 10398G, 10400T, 10873C, 11215T, 11719A, 11959G, 12705T, 14668T, 14766T, 14783C, 15043A, 15301A, 15326G, 16129A, 16223T, 16271C, 16362C | F2: 39 | G2: 1-16569 | H2: 16569 | I2: 0.9838 | J2: 16092C | K2: 73G 263G 489C 750G 1438G 2706G 3010A 3316A 4769G 4883T 4991A 5178A 7028T 7493T 8414T 8701G 8703T 8860G 9536T 9540C 10398G 10400T 10873C 11215T 11719A 11959G 12705T 14668T 14766T 14783C 15043A 15301A 15326G 16129A 16223T 16271C 16362C | L2: 310.1C 3106d 3107C 5147A | N2: Tamm et al. 2007
A3: EU095540.1 | B3: A2a (A2a2) | C3: A2a2 | D3: A73G, T146C, A153G, A235G, A263G, C309CCT, T310C, CA514d, A663G, A750G, A1438G, A1736G, A2706G, C3330T, T4248C, A4769G, A4824G, C7028T, G8027A, C8794T, A8860G, C9301T, G11719A, G12007A, C12705T, C14766T, A15326G, C16111T, C16223T, C16290T, G16319A, T16362C | E3: 73G, 146C, 153G, 235G, 263G, 309.1CT, 310C, 514d, 515d, 663G, 750G, 1438G, 1736G, 2706G, 3106d, 3107C, 3330T, 4248C, 4769G, 4824G, 7028T, 8027A, 8794T, 8860G, 9301T, 11719A, 12007A, 12705T, 14766T, 15326G, 16111T, 16223T, 16290T, 16319A, 16362C | F3: 32 | G3: 1-16569 | H3: 16569 | I3: 0.9765 | J3: 16192T | K3: 73G 146C 152C! 153G 235G 263G 663G 750G 1438G 1736G 2706G 3330T 4248C 4769G 4824G 7028T 8027A 8794T 8860G 9301T 11719A 12007A 12705T 14766T 15326G 16111T 16223T 16290T 16319A 16362C | L3: 309.1CT 310C 514d 515d 3106d 3107C | N3: Tamm et al. 2007
A4: EU482349.1 | B4: A2a (A2a2) | C4: A2a2 | D4: A73G, T146C, A153G, A235G, A263G, C309CCT, T310C, CA514d, A663G, A750G, A1438G, A1736G, A2706G, C3330T, T4248C, A4769G, A4824G, T6071C, C7028T, G8027A, C8794T, A8860G, T9068C, C9301T, G11719A, G12007A, C12705T, C14766T, A15326G, C16111T, C16192T, C16223T, C16290T, G16319A, T16362C | E4: 73G, 146C, 153G, 235G, 263G, 309.1CT, 310C, 514d, 515d, 663G, 750G, 1438G, 1736G, 2706G, 3106d, 3107C, 3330T, 4248C, 4769G, 4824G, 6071C, 7028T, 8027A, 8794T, 8860G, 9068C, 9301T, 11719A, 12007A, 12705T, 14766T, 15326G, 16111T, 16192T, 16223T, 16290T, 16319A, 16362C | F4: 35 | G4: 1-16569 | H4: 16569 | I4: 0.9704 | K4: 73G 146C 152C! 153G 235G 263G 663G 750G 1438G 1736G 2706G 3330T 4248C 4769G 4824G 7028T 8027A 8794T 8860G 9301T 11719A 12007A 12705T 14766T 15326G 16111T 16192T 16223T 16290T 16319A 16362C | L4: 309.1CT 310C 514d 515d 3106d 3107C 6071C 9068C | M4: 9068C [M181T| Codon 2 | ATP6 ] | N4: Volodko et al. 2008
A5: EU482350.1 | B5: A2b (A2b1) | C5: A2b1 | D5: A73G, T146C, A153G, A235G, A263G, C309CCT, T310C, CA514d, A663G, A750G, A1438G, A1736G, A2706G, T4248C, A4769G, A4824G, C7028T, G8027A, C8794T, A8860G, T11365C, G11719A, G12007A, C12705T, C14766T, A15326G, C16111T, C16223T, A16265G, C16290T, G16319A, T16362C | E5: 73G, 146C, 153G, 235G, 263G, 309.1CT, 310C, 514d, 515d, 663G, 750G, 1438G, 1736G, 2706G, 3106d, 3107C, 4248C, 4769G, 4824G, 7028T, 8027A, 8794T, 8860G, 11365C, 11719A, 12007A, 12705T, 14766T, 15326G, 16111T, 16223T, 16265G, 16290T, 16319A, 16362C | F5: 32 | G5: 1-16569 | H5: 16569 | I5: 0.9859 | K5: 73G 146C 152C! 153G 235G 263G 663G 750G 1438G 1736G 2706G 4248C 4769G 4824G 7028T 8027A 8794T 8860G 11365C 11719A 12007A 12705T 14766T 15326G 16111T 16223T 16265G 16290T 16319A 16362C | L5: 309.1CT 310C 514d 515d 3106d 3107C | N5: Volodko et al. 2008
A6: EU482351.1 | B6: A2a (A2a) | C6: A2a | D6: A73G, T146C, A153G, A235G, A263G, C309CCT, T310C, CA514d, A663G, A750G, A1438G, A1736G, A2706G, C3330T, T4248C, A4769G, A4824G, C7028T, G8027A, C8794T, A8860G, G11719A, G12007A, C12705T, C14766T, A15326G, C16111T, C16192T, C16223T, C16290T, G16319A, T16362C, T16519C | E6: 73G, 146C, 153G, 235G, 263G, 309.1CT, 310C, 514d, 515d, 663G, 750G, 1438G, 1736G, 2706G, 3106d, 3107C, 3330T, 4248C, 4769G, 4824G, 7028T, 8027A, 8794T, 8860G, 11719A, 12007A, 12705T, 14766T, 15326G, 16111T, 16192T, 16223T, 16290T, 16319A, 16362C, 16519C | F6: 33 | G6: 1-16569 | H6: 16569 | I6: 0.986 | K6: 73G 146C 152C! 153G 235G 263G 663G 750G 1438G 1736G 2706G 3330T 4248C 4769G 4824G 7028T 8027A 8794T 8860G 11719A 12007A 12705T 14766T 15326G 16111T 16192T 16223T 16290T 16319A 16362C | L6: 309.1CT 310C 514d 515d 3106d 3107C 16519C | N6: Volodko et al. 2008
A7: EU482352.1 | B7: A2a (A2a2) | C7: A2a2 | D7: A73G, T146C, A153G, A235G, A263G, C309CCCT, T310C, CA514d, A663G, A750G, A1438G, A1736G, A2706G, C3330T, T4248C, A4769G, A4824G, C7028T, G8027A, C8794T, A8860G, C9301T, G11719A, G12007A, C12705T, C14766T, A15326G, C16111T, C16223T, C16290T, G16319A, T16362C | E7: 73G, 146C, 153G, 235G, 263G, 309.1CCT, 310C, 514d, 515d, 663G, 750G, 1438G, 1736G, 2706G, 3106d, 3107C, 3330T, 4248C, 4769G, 4824G, 7028T, 8027A, 8794T, 8860G, 9301T, 11719A, 12007A, 12705T, 14766T, 15326G, 16111T, 16223T, 16290T, 16319A, 16362C | F7: 32 | G7: 1-16569 | H7: 16569 | I7: 0.9765 | J7: 16192T | K7: 73G 146C 152C! 153G 235G 263G 663G 750G 1438G 1736G 2706G 3330T 4248C 4769G 4824G 7028T 8027A 8794T 8860G 9301T 11719A 12007A 12705T 14766T 15326G 16111T 16223T 16290T 16319A 16362C | L7: 309.1CCT 310C 514d 515d 3106d 3107C | N7: Volodko et al. 2008
A8: EU482353.1 | B8: A2b (A2b1) | C8: A2b1 | D8: A73G, T146C, A153G, A235G, A263G, C309CCT, T310C, CA514d, A663G, A750G, A1438G, A1736G, A2706G, T4248C, A4769G, A4824G, C7028T, G8027A, C8794T, A8860G, T11365C, G11719A, G12007A, C12705T, C14766T, A15326G, C16111T, C16223T, A16265G, C16290T, G16319A, T16362C | E8: 73G, 146C, 153G, 235G, 263G, 309.1CT, 310C, 514d, 515d, 663G, 750G, 1438G, 1736G, 2706G, 3106d, 3107C, 4248C, 4769G, 4824G, 7028T, 8027A, 8794T, 8860G, 11365C, 11719A, 12007A, 12705T, 14766T, 15326G, 16111T, 16223T, 16265G, 16290T, 16319A, 16362C | F8: 32 | G8: 1-16569 | H8: 16569 | I8: 0.9859 | K8: 73G 146C 152C! 153G 235G 263G 663G 750G 1438G 1736G 2706G 4248C 4769G 4824G 7028T 8027A 8794T 8860G 11365C 11719A 12007A 12705T 14766T 15326G 16111T 16223T 16265G 16290T 16319A 16362C | L8: 309.1CT 310C 514d 515d 3106d 3107C | N8: Volodko et al. 2008
A9: EU482354.1 | B9: D4b (D4b1a2a1) | C9: D4b1a2a1 | D9: A73G, A263G, C309CCT, T310C, T489C, CA514d, A750G, A1438G, A2706G, G3010A, A4769G, G4841A, C4883T, C5178A, A6881G, C7028T, G8020A, C8414T, A8701G, A8860G, T9540C, C10181T, A10398G, C10400T, T10873C, T11383C, T11617C, G11719A, C12705T, C13720T, A14122C, C14668T, C14766T, T14783C, C14815T, A14927G, G15043A, G15301A, A15326G, T15440C, A15951G, T16093C, C16150T, C16173T, C16223T, G16319A, T16362C | E9: 73G, 263G, 309.1CT, 310C, 489C, 514d, 515d, 750G, 1438G, 2706G, 3010A, 3106d, 3107C, 4769G, 4841A, 4883T, 5178A, 6881G, 7028T, 8020A, 8414T, 8701G, 8860G, 9540C, 10181T, 10398G, 10400T, 10873C, 11383C, 11617C, 11719A, 12705T, 13720T, 14122C, 14668T, 14766T, 14783C, 14815T, 14927G, 15043A, 15301A, 15326G, 15440C, 15951G, 16093C, 16150T, 16173T, 16223T, 16319A, 16362C | F9: 47 | G9: 1-16569 | H9: 16569 | I9: 0.937 | K9: 73G 263G 489C 750G 1438G 2706G 3010A 4769G 4883T 5178A 6881G 7028T 8020A 8414T 8701G 8860G 9540C 10181T 10398G 10400T 10873C 11719A 12705T 13720T 14668T 14766T 14783C 14815T 14927G 15043A 15301A 15326G 15440C 15951G 16173T 16223T 16319A 16362C | L9: 309.1CT 310C 514d 515d 3106d 3107C 4841A 11383C 11617C 14122C 16093C 16150T | M9: 14122C [I596L| Codon 1 | ND5 ] | N9: Volodko et al. 2008
A10: EU482355.1 | B10: A2a (A2a3) | C10: A2a3 | D10: A73G, T146C, A153G, A235G, A263G, C309CCT, T310C, CA514d, A663G, A750G, A1438G, A1736G, A2706G, C3330T, T4248C, A4769G, A4824G, C7028T, G8027A, C8794T, A8860G, G11719A, G12007A, C12705T, C14766T, A15326G, C16111T, C16192T, C16223T, C16290T, T16311C, G16319A, T16362C | E10: 73G, 146C, 153G, 235G, 263G, 309.1CT, 310C, 514d, 515d, 663G, 750G, 1438G, 1736G, 2706G, 3106d, 3107C, 3330T, 4248C, 4769G, 4824G, 7028T, 8027A, 8794T, 8860G, 11719A, 12007A, 12705T, 14766T, 15326G, 16111T, 16192T, 16223T, 16290T, 16311C, 16319A, 16362C | F10: 33 | G10: 1-16569 | H10: 16569 | I10: 0.9861 | K10: 73G 146C 152C! 153G 235G 263G 663G 750G 1438G 1736G 2706G 3330T 4248C 4769G 4824G 7028T 8027A 8794T 8860G 11719A 12007A 12705T 14766T 15326G 16111T 16192T 16223T 16290T 16311C 16319A 16362C | L10: 309.1CT 310C 514d 515d 3106d 3107C | N10: Volodko et al. 2008
A11: EU482356.1 | B11: D4b (D4b1a2a1) | C11: D4b1a2a1 | D11: A73G, A263G, C315CC, T489C, CA514d, A750G, A1438G, A2706G, G3010A, A4769G, C4883T, C5178A, A6881G, C7028T, G8020A, C8414T, A8701G, A8860G, T9540C, C10181T, A10398G, C10400T, T10873C, T11383C, G11719A, C12705T, C13720T, A14122C, C14668T, C14766T, T14783C, C14815T, A14927G, G15043A, G15301A, A15326G, C15370T, T15440C, A15951G, T16093C, C16173T, C16223T, G16319A, T16362C | E11: 73G, 263G, 310.1C, 489C, 514d, 515d, 750G, 1438G, 2706G, 3010A, 3106d, 3107C, 4769G, 4883T, 5178A, 6881G, 7028T, 8020A, 8414T, 8701G, 8860G, 9540C, 10181T, 10398G, 10400T, 10873C, 11383C, 11719A, 12705T, 13720T, 14122C, 14668T, 14766T, 14783C, 14815T, 14927G, 15043A, 15301A, 15326G, 15370T, 15440C, 15951G, 16093C, 16173T, 16223T, 16319A, 16362C | F11: 44 | G11: 1-16569 | H11: 16569 | I11: 0.9682 | K11: 73G 263G 489C 750G 1438G 2706G 3010A 4769G 4883T 5178A 6881G 7028T 8020A 8414T 8701G 8860G 9540C 10181T 10398G 10400T 10873C 11719A 12705T 13720T 14668T 14766T 14783C 14815T 14927G 15043A 15301A 15326G 15440C 15951G 16173T 16223T 16319A 16362C | L11: 310.1C 514d 515d 3106d 3107C 11383C 14122C 15370T 16093C | M11: 14122C [I596L| Codon 1 | ND5 ] | N11: Volodko et al. 2008
A12: EU482357.1 | B12: D2a (D2a2) | C12: D2a2 | D12: A73G, A263G, C309CCT, T310C, T489C, A750G, A1438G, A2706G, G3010A, G3316A, A4769G, C4883T, G4991A, C5178A, C7028T, C7493T, C8414T, A8701G, C8703T, A8860G, C9536T, T9540C, A10398G, C10400T, T10873C, C11215T, G11719A, A11959G, C12705T, C14668T, C14766T, T14783C, G15043A, G15301A, A15326G, G16129A, C16223T, T16271C, T16362C | E12: 73G, 263G, 309.1CT, 310C, 489C, 750G, 1438G, 2706G, 3010A, 3106d, 3107C, 3316A, 4769G, 4883T, 4991A, 5178A, 7028T, 7493T, 8414T, 8701G, 8703T, 8860G, 9536T, 9540C, 10398G, 10400T, 10873C, 11215T, 11719A, 11959G, 12705T, 14668T, 14766T, 14783C, 15043A, 15301A, 15326G, 16129A, 16223T, 16271C, 16362C | F12: 39 | G12: 1-16569 | H12: 16569 | I12: 0.9811 | J12: 16092C | K12: 73G 263G 489C 750G 1438G 2706G 3010A 3316A 4769G 4883T 4991A 5178A 7028T 7493T 8414T 8701G 8703T 8860G 9536T 9540C 10398G 10400T 10873C 11215T 11719A 11959G 12705T 14668T 14766T 14783C 15043A 15301A 15326G 16129A 16223T 16271C 16362C | L12: 309.1CT 310C 3106d 3107C | N12: Volodko et al. 2008
A13: EU482358.1 | B13: A2b (A2b1) | C13: A2b1 | D13: A73G, T146C, A153G, A235G, A263G, C315CC, CA514d, A663G, A750G, A1438G, A1736G, A2706G, T4248C, A4769G, A4824G, C7028T, G8027A, C8794T, A8860G, T10609C, T11365C, G11719A, G12007A, C12705T, C14766T, A15326G, C16111T, G16129A, C16223T, A16265G, C16290T, G16319A, T16362C | E13: 73G, 146C, 153G, 235G, 263G, 310.1C, 514d, 515d, 663G, 750G, 1438G, 1736G, 2706G, 3106d, 3107C, 4248C, 4769G, 4824G, 7028T, 8027A, 8794T, 8860G, 10609C, 11365C, 11719A, 12007A, 12705T, 14766T, 15326G, 16111T, 16129A, 16223T, 16265G, 16290T, 16319A, 16362C | F13: 33 | G13: 1-16569 | H13: 16569 | I13: 0.9766 | K13: 73G 146C 152C! 153G 235G 263G 663G 750G 1438G 1736G 2706G 4248C 4769G 4824G 7028T 8027A 8794T 8860G 11365C 11719A 12007A 12705T 14766T 15326G 16111T 16223T 16265G 16290T 16319A 16362C | L13: 310.1C 514d 515d 3106d 3107C 10609C 16129A | M13: 10609C [M47T| Codon 2 | ND4L ] | N13: Volodko et al. 2008
A14: EU660551.1 | B14: D2a (D2a2) | C14: D2a2 | D14: A73G, A263G, C309CCT, T310C, T489C, A750G, A1438G, A2706G, G3010A, G3316A, A4769G, C4883T, G4991A, C5178A, C7028T, C7493T, C8414T, A8701G, C8703T, A8860G, C9536T, T9540C, A10398G, C10400T, T10873C, C11215T, G11719A, A11959G, C12705T, C14668T, C14766T, T14783C, G15043A, G15301A, A15326G, G16129A, C16223T, T16271C, T16362C | E14: 73G, 263G, 309.1CT, 310C, 489C, 750G, 1438G, 2706G, 3010A, 3106d, 3107C, 3316A, 4769G, 4883T, 4991A, 5178A, 7028T, 7493T, 8414T, 8701G, 8703T, 8860G, 9536T, 9540C, 10398G, 10400T, 10873C, 11215T, 11719A, 11959G, 12705T, 14668T, 14766T, 14783C, 15043A, 15301A, 15326G, 16129A, 16223T, 16271C, 16362C | F14: 39 | G14: 1-16569 | H14: 16569 | I14: 0.9811 | J14: 16092C | K14: 73G 263G 489C 750G 1438G 2706G 3010A 3316A 4769G 4883T 4991A 5178A 7028T 7493T 8414T 8701G 8703T 8860G 9536T 9540C 10398G 10400T 10873C 11215T 11719A 11959G 12705T 14668T 14766T 14783C 15043A 15301A 15326G 16129A 16223T 16271C 16362C | L14: 309.1CT 310C 3106d 3107C | N14: Derbeneva et al. 2002
A15: EU660552.1 | B15: D2a (D2a2) | C15: D2a2 | D15: A73G, A263G, C309CCT, T310C, T489C, A750G, A1438G, A2706G, G3010A, G3316A, A4769G, C4883T, G4991A, C5178A, C7028T, C7493T, C8414T, A8701G, C8703T, A8860G, C9536T, T9540C, A10398G, C10400T, T10873C, C11215T, G11719A, A11959G, C12705T, C14668T, C14766T, T14783C, G15043A, G15301A, A15326G, C16111T, G16129A, C16223T, T16271C, T16362C | E15: 73G, 263G, 309.1CT, 310C, 489C, 750G, 1438G, 2706G, 3010A, 3106d, 3107C, 3316A, 4769G, 4883T, 4991A, 5178A, 7028T, 7493T, 8414T, 8701G, 8703T, 8860G, 9536T, 9540C, 10398G, 10400T, 10873C, 11215T, 11719A, 11959G, 12705T, 14668T, 14766T, 14783C, 15043A, 15301A, 15326G, 16111T, 16129A, 16223T, 16271C, 16362C | F15: 40 | G15: 1-16569 | H15: 16569 | I15: 0.9739 | J15: 16092C | K15: 73G 263G 489C 750G 1438G 2706G 3010A 3316A 4769G 4883T 4991A 5178A 7028T 7493T 8414T 8701G 8703T 8860G 9536T 9540C 10398G 10400T 10873C 11215T 11719A 11959G 12705T 14668T 14766T 14783C 15043A 15301A 15326G 16129A 16223T 16271C 16362C | L15: 309.1CT 310C 3106d 3107C 16111T | N15: Derbeneva et al. 2002
A16: EU660553.1 | B16: D2a (D2a1b) | C16: D2a1b | D16: A73G, A263G, C309CCT, T310C, T489C, A750G, A1438G, A2706G, G3010A, G3316A, A4769G, C4883T, C5178A, C7028T, C7493T, C8414T, A8701G, C8703T, A8860G, C9536T, T9540C, A9667G, A10398G, C10400T, T10873C, C11215T, G11719A, A11959G, C12705T, C14668T, C14766T, T14783C, G15043A, G15301A, A15326G, C16111T, G16129A, C16223T, T16271C, T16362C, C16366T | E16: 73G, 263G, 309.1CT, 310C, 489C, 750G, 1438G, 2706G, 3010A, 3106d, 3107C, 3316A, 4769G, 4883T, 5178A, 7028T, 7493T, 8414T, 8701G, 8703T, 8860G, 9536T, 9540C, 9667G, 10398G, 10400T, 10873C, 11215T, 11719A, 11959G, 12705T, 14668T, 14766T, 14783C, 15043A, 15301A, 15326G, 16111T, 16129A, 16223T, 16271C, 16362C, 16366T | F16: 41 | G16: 1-16569 | H16: 16569 | I16: 0.9819 | J16: 16092C | K16: 73G 263G 489C 750G 1438G 2706G 3010A 3316A 4769G 4883T 5178A 7028T 7493T 8414T 8701G 8703T 8860G 9536T 9540C 9667G 10398G 10400T 10873C 11215T 11719A 11959G 12705T 14668T 14766T 14783C 15043A 15301A 15326G 16111T 16129A 16223T 16271C 16362C 16366T | L16: 309.1CT 310C 3106d 3107C | N16: Derbeneva et al. 2002
A17: EU660554.1 | B17: D2a (D2a1b) | C17: D2a1b | D17: A73G, A263G, C309CCT, T310C, T489C, A750G, A1438G, A2706G, G3010A, G3316A, A4769G, C4883T, C5178A, C7028T, C7493T, C8414T, A8701G, C8703T, A8860G, C9536T, T9540C, A9667G, A10398G, C10400T, T10873C, C11215T, G11719A, A11959G, C12705T, C14668T, C14766T, T14783C, G15043A, G15301A, A15326G, C16111T, G16129A, C16223T, T16271C, T16362C, C16366T | E17: 73G, 263G, 309.1CT, 310C, 489C, 750G, 1438G, 2706G, 3010A, 3106d, 3107C, 3316A, 4769G, 4883T, 5178A, 7028T, 7493T, 8414T, 8701G, 8703T, 8860G, 9536T, 9540C, 9667G, 10398G, 10400T, 10873C, 11215T, 11719A, 11959G, 12705T, 14668T, 14766T, 14783C, 15043A, 15301A, 15326G, 16111T, 16129A, 16223T, 16271C, 16362C, 16366T | F17: 41 | G17: 1-16569 | H17: 16569 | I17: 0.9819 | J17: 16092C | K17: 73G 263G 489C 750G 1438G 2706G 3010A 3316A 4769G 4883T 5178A 7028T 7493T 8414T 8701G 8703T 8860G 9536T 9540C 9667G 10398G 10400T 10873C 11215T 11719A 11959G 12705T 14668T 14766T 14783C 15043A 15301A 15326G 16111T 16129A 16223T 16271C 16362C 16366T | L17: 309.1CT 310C 3106d 3107C | N17: Derbeneva et al. 2002
A18: EU660555.1 | B18: D2a (D2a1b) | C18: D2a1b | D18: A73G, A263G, C309CCT, T310C, T489C, A750G, A1438G, A2706G, G3010A, G3316A, A4769G, C4883T, C5178A, C7028T, C7493T, C8414T, A8701G, C8703T, A8860G, C9536T, T9540C, A9667G, A10398G, C10400T, T10873C, C11215T, G11719A, A11959G, C12705T, C14668T, C14766T, T14783C, G15043A, G15301A, A15326G, C16111T, G16129A, C16223T, T16271C, T16362C, C16366T | E18: 73G, 263G, 309.1CT, 310C, 489C, 750G, 1438G, 2706G, 3010A, 3106d, 3107C, 3316A, 4769G, 4883T, 5178A, 7028T, 7493T, 8414T, 8701G, 8703T, 8860G, 9536T, 9540C, 9667G, 10398G, 10400T, 10873C, 11215T, 11719A, 11959G, 12705T, 14668T, 14766T, 14783C, 15043A, 15301A, 15326G, 16111T, 16129A, 16223T, 16271C, 16362C, 16366T | F18: 41 | G18: 1-16569 | H18: 16569 | I18: 0.9819 | J18: 16092C | K18: 73G 263G 489C 750G 1438G 2706G 3010A 3316A 4769G 4883T 5178A 7028T 7493T 8414T 8701G 8703T 8860G 9536T 9540C 9667G 10398G 10400T 10873C 11215T 11719A 11959G 12705T 14668T 14766T 14783C 15043A 15301A 15326G 16111T 16129A 16223T 16271C 16362C 16366T | L18: 309.1CT 310C 3106d 3107C | N18: Derbeneva et al. 2002
A19: EU660556.1 | B19: D2a (D2a1b) | C19: D2a1b | D19: A73G, A263G, C309CCT, T310C, T489C, A750G, A1438G, A2706G, G3010A, G3316A, A4769G, C4883T, C5178A, C7028T, A7403G, C7493T, C8414T, A8701G, C8703T, A8860G, C9536T, T9540C, A9667G, A10398G, C10400T, T10873C, C11215T, G11719A, A11959G, C12705T, C14668T, C14766T, T14783C, G15043A, G15301A, A15326G, C16111T, G16129A, C16223T, T16271C, T16362C, C16366T, T16519C | E19: 73G, 263G, 309.1CT, 310C, 489C, 750G, 1438G, 2706G, 3010A, 3106d, 3107C, 3316A, 4769G, 4883T, 5178A, 7028T, 7403G, 7493T, 8414T, 8701G, 8703T, 8860G, 9536T, 9540C, 9667G, 10398G, 10400T, 10873C, 11215T, 11719A, 11959G, 12705T, 14668T, 14766T, 14783C, 15043A, 15301A, 15326G, 16111T, 16129A, 16223T, 16271C, 16362C, 16366T, 16519C | F19: 43 | G19: 1-16569 | H19: 16569 | I19: 0.9715 | J19: 16092C | K19: 73G 263G 489C 750G 1438G 2706G 3010A 3316A 4769G 4883T 5178A 7028T 7493T 8414T 8701G 8703T 8860G 9536T 9540C 9667G 10398G 10400T 10873C 11215T 11719A 11959G 12705T 14668T 14766T 14783C 15043A 15301A 15326G 16111T 16129A 16223T 16271C 16362C 16366T | L19: 309.1CT 310C 3106d 3107C 7403G 16519C | N19: Derbeneva et al. 2002
A20: EU660557.1 | B20: D2a (D2a1b) | C20: D2a1b | D20: A73G, A263G, C309CCT, T310C, T489C, A750G, A795G, A1438G, A2706G, G3010A, G3316A, A4769G, C4883T, C5178A, C7028T, C7493T, C8414T, A8701G, C8703T, A8860G, T8895C, C9536T, T9540C, A9667G, A10398G, C10400T, T10873C, C11215T, G11719A, A11959G, C12705T, C14668T, C14766T, T14783C, G15043A, G15301A, A15326G, C16111T, G16129A, C16223T, T16271C, C16294T, T16362C, C16366T | E20: 73G, 263G, 309.1CT, 310C, 489C, 750G, 795G, 1438G, 2706G, 3010A, 3106d, 3107C, 3316A, 4769G, 4883T, 5178A, 7028T, 7493T, 8414T, 8701G, 8703T, 8860G, 8895C, 9536T, 9540C, 9667G, 10398G, 10400T, 10873C, 11215T, 11719A, 11959G, 12705T, 14668T, 14766T, 14783C, 15043A, 15301A, 15326G, 16111T, 16129A, 16223T, 16271C, 16294T, 16362C, 16366T | F20: 44 | G20: 1-16569 | H20: 16569 | I20: 0.9754 | J20: 16092C | K20: 73G 263G 489C 750G 1438G 2706G 3010A 3316A 4769G 4883T 5178A 7028T 7493T 8414T 8701G 8703T 8860G 9536T 9540C 9667G 10398G 10400T 10873C 11215T 11719A 11959G 12705T 14668T 14766T 14783C 15043A 15301A 15326G 16111T 16129A 16223T 16271C 16362C 16366T | L20: 309.1CT 310C 795G 3106d 3107C 8895C 16294T | N20: Derbeneva et al. 2002
A21: EU725607.2 | B21: A2b (A2b1) | C21: A2b1 | D21: A73G, T146C, A153G, A235G, A263G, C309CCT, T310C, CA514d, A663G, A750G, A1438G, A1736G, A2706G, T4248C, A4769G, A4824G, C7028T, G8027A, C8794T, A8860G, T11365C, G11719A, G12007A, C12705T, C14766T, A15326G, C16111T, C16223T, A16265G, C16290T, G16319A, T16362C | E21: 73G, 146C, 153G, 235G, 263G, 309.1CT, 310C, 514d, 515d, 663G, 750G, 1438G, 1736G, 2706G, 3106d, 3107C, 4248C, 4769G, 4824G, 7028T, 8027A, 8794T, 8860G, 11365C, 11719A, 12007A, 12705T, 14766T, 15326G, 16111T, 16223T, 16265G, 16290T, 16319A, 16362C | F21: 32 | G21: 1-16569 | H21: 16569 | I21: 0.9859 | K21: 73G 146C 152C! 153G 235G 263G 663G 750G 1438G 1736G 2706G 4248C 4769G 4824G 7028T 8027A 8794T 8860G 11365C 11719A 12007A 12705T 14766T 15326G 16111T 16223T 16265G 16290T 16319A 16362C | L21: 309.1CT 310C 514d 515d 3106d 3107C | N21: Derbeneva et al. 2002
A22: EU725608.2 | B22: A2b (A2b1) | C22: A2b1 | D22: A73G, T146C, A153G, A235G, A263G, C309CCT, T310C, CA514d, A663G, A750G, A1438G, A1736G, A2706G, T4248C, A4769G, A4824G, C7028T, G8027A, C8794T, A8860G, T11365C, G11719A, G12007A, C12705T, C14766T, A15326G, C16111T, A16212G, C16223T, A16265G, C16290T, G16319A, T16362C | E22: 73G, 146C, 153G, 235G, 263G, 309.1CT, 310C, 514d, 515d, 663G, 750G, 1438G, 1736G, 2706G, 3106d, 3107C, 4248C, 4769G, 4824G, 7028T, 8027A, 8794T, 8860G, 11365C, 11719A, 12007A, 12705T, 14766T, 15326G, 16111T, 16212G, 16223T, 16265G, 16290T, 16319A, 16362C | F22: 33 | G22: 1-16569 | H22: 16569 | I22: 0.97 | K22: 73G 146C 152C! 153G 235G 263G 663G 750G 1438G 1736G 2706G 4248C 4769G 4824G 7028T 8027A 8794T 8860G 11365C 11719A 12007A 12705T 14766T 15326G 16111T 16223T 16265G 16290T 16319A 16362C | L22: 309.1CT 310C 514d 515d 3106d 3107C 16212G | N22: Gilbert et al. 2008
A23: EU725609.2 | B23: A2b (A2b1) | C23: A2b1 | D23: A73G, T146C, A153G, A235G, A263G, C309CCT, T310C, CA514d, A663G, A750G, A1438G, A1736G, A2706G, T4248C, A4769G, A4824G, C7028T, G8027A, C8794T, A8860G, T11365C, G11719A, G12007A, C12705T, C14766T, A15326G, C16111T, A16212G, C16223T, A16265G, C16290T, G16319A, T16362C | E23: 73G, 146C, 153G, 235G, 263G, 309.1CT, 310C, 514d, 515d, 663G, 750G, 1438G, 1736G, 2706G, 3106d, 3107C, 4248C, 4769G, 4824G, 7028T, 8027A, 8794T, 8860G, 11365C, 11719A, 12007A, 12705T, 14766T, 15326G, 16111T, 16212G, 16223T, 16265G, 16290T, 16319A, 16362C | F23: 33 | G23: 1-16569 | H23: 16569 | I23: 0.97 | K23: 73G 146C 152C! 153G 235G 263G 663G 750G 1438G 1736G 2706G 4248C 4769G 4824G 7028T 8027A 8794T 8860G 11365C 11719A 12007A 12705T 14766T 15326G 16111T 16223T 16265G 16290T 16319A 16362C | L23: 309.1CT 310C 514d 515d 3106d 3107C 16212G | N23: Gilbert et al. 2008
A24: EU725610.2 | B24: A2b (A2b1) | C24: A2b1 | D24: A73G, T146C, A153G, A235G, A263G, C309CCT, T310C, CA514d, A663G, A750G, A1438G, A1736G, A2706G, T4248C, A4769G, A4824G, C7028T, G8027A, C8794T, A8860G, T11365C, G11719A, G12007A, C12705T, C14766T, A15326G, C16111T, C16223T, A16265G, C16290T, G16319A, T16362C | E24: 73G, 146C, 153G, 235G, 263G, 309.1CT, 310C, 514d, 515d, 663G, 750G, 1438G, 1736G, 2706G, 3106d, 3107C, 4248C, 4769G, 4824G, 7028T, 8027A, 8794T, 8860G, 11365C, 11719A, 12007A, 12705T, 14766T, 15326G, 16111T, 16223T, 16265G, 16290T, 16319A, 16362C | F24: 32 | G24: 1-16569 | H24: 16569 | I24: 0.9859 | K24: 73G 146C 152C! 153G 235G 263G 663G 750G 1438G 1736G 2706G 4248C 4769G 4824G 7028T 8027A 8794T 8860G 11365C 11719A 12007A 12705T 14766T 15326G 16111T 16223T 16265G 16290T 16319A 16362C | L24: 309.1CT 310C 514d 515d 3106d 3107C | N24: Gilbert et al. 2008
A25: EU725611.2 | B25: A2a (A2a3) | C25: A2a3 | D25: A73G, T146C, A153G, A235G, A263G, C309CCT, T310C, CA514d, A663G, A750G, A1438G, A1736G, A2706G, T2857C, C3330T, A3395G, T4248C, A4769G, A4824G, C7028T, G8027A, C8794T, A8860G, G11719A, G12007A, C12705T, C14766T, A15326G, C16111T, C16192T, A16207G, C16223T, C16290T, T16311C, G16319A, T16362C | E25: 73G, 146C, 153G, 235G, 263G, 309.1CT, 310C, 514d, 515d, 663G, 750G, 1438G, 1736G, 2706G, 2857C, 3106d, 3107C, 3330T, 3395G, 4248C, 4769G, 4824G, 7028T, 8027A, 8794T, 8860G, 11719A, 12007A, 12705T, 14766T, 15326G, 16111T, 16192T, 16207G, 16223T, 16290T, 16311C, 16319A, 16362C | F25: 36 | G25: 1-16569 | H25: 16569 | I25: 0.9349 | K25: 73G 146C 152C! 153G 235G 263G 663G 750G 1438G 1736G 2706G 3330T 4248C 4769G 4824G 7028T 8027A 8794T 8860G 11719A 12007A 12705T 14766T 15326G 16111T 16192T 16223T 16290T 16311C 16319A 16362C | L25: 309.1CT 310C 514d 515d 2857C 3106d 3107C 3395G 16207G | M25: 3395G [Y30C| Codon 2 | ND1 ] | N25: Gilbert et al. 2008
A26: EU725612.2 | B26: A2b (A2b1) | C26: A2b1 | D26: A73G, T146C, A153G, A235G, A263G, C309CCT, T310C, CA514d, A663G, A750G, A1438G, A1736G, A2706G, T4248C, A4769G, A4824G, C7028T, G8027A, C8794T, A8860G, T11365C, G11719A, G12007A, C12705T, C14766T, A15326G, C16111T, C16223T, A16265G, C16290T, G16319A, T16362C | E26: 73G, 146C, 153G, 235G, 263G, 309.1CT, 310C, 514d, 515d, 663G, 750G, 1438G, 1736G, 2706G, 3106d, 3107C, 4248C, 4769G, 4824G, 7028T, 8027A, 8794T, 8860G, 11365C, 11719A, 12007A, 12705T, 14766T, 15326G, 16111T, 16223T, 16265G, 16290T, 16319A, 16362C | F26: 32 | G26: 1-16569 | H26: 16569 | I26: 0.9859 | K26: 73G 146C 152C! 153G 235G 263G 663G 750G 1438G 1736G 2706G 4248C 4769G 4824G 7028T 8027A 8794T 8860G 11365C 11719A 12007A 12705T 14766T 15326G 16111T 16223T 16265G 16290T 16319A 16362C | L26: 309.1CT 310C 514d 515d 3106d 3107C | N26: Gilbert et al. 2008
A27: EU725613.2 | B27: A2b (A2b1) | C27: A2b1 | D27: A73G, T146C, A153G, A235G, A263G, C309CCT, T310C, CA514d, A663G, A750G, A1438G, A1736G, A2706G, T4248C, A4769G, A4824G, C7028T, G8027A, C8794T, A8860G, T11365C, G11719A, G12007A, C12705T, C14766T, A15326G, C16111T, C16223T, A16265G, C16290T, G16319A, T16362C | E27: 73G, 146C, 153G, 235G, 263G, 309.1CT, 310C, 514d, 515d, 663G, 750G, 1438G, 1736G, 2706G, 3106d, 3107C, 4248C, 4769G, 4824G, 7028T, 8027A, 8794T, 8860G, 11365C, 11719A, 12007A, 12705T, 14766T, 15326G, 16111T, 16223T, 16265G, 16290T, 16319A, 16362C | F27: 32 | G27: 1-16569 | H27: 16569 | I27: 0.9859 | K27: 73G 146C 152C! 153G 235G 263G 663G 750G 1438G 1736G 2706G 4248C 4769G 4824G 7028T 8027A 8794T 8860G 11365C 11719A 12007A 12705T 14766T 15326G 16111T 16223T 16265G 16290T 16319A 16362C | L27: 309.1CT 310C 514d 515d 3106d 3107C | N27: Gilbert et al. 2008
A28: EU725614.2 | B28: A2b (A2b1) | C28: A2b1 | D28: A73G, T146C, A153G, A235G, A263G, C309CCT, T310C, CA514d, A663G, A750G, A1438G, A1736G, A2706G, T4248C, A4769G, A4824G, C7028T, G8027A, C8794T, A8860G, T11365C, G11719A, G12007A, C12705T, C14766T, A15326G, C16111T, A16212G, C16223T, A16265G, C16290T, G16319A, T16362C | E28: 73G, 146C, 153G, 235G, 263G, 309.1CT, 310C, 514d, 515d, 663G, 750G, 1438G, 1736G, 2706G, 3106d, 3107C, 4248C, 4769G, 4824G, 7028T, 8027A, 8794T, 8860G, 11365C, 11719A, 12007A, 12705T, 14766T, 15326G, 16111T, 16212G, 16223T, 16265G, 16290T, 16319A, 16362C | F28: 33 | G28: 1-16569 | H28: 16569 | I28: 0.97 | K28: 73G 146C 152C! 153G 235G 263G 663G 750G 1438G 1736G 2706G 4248C 4769G 4824G 7028T 8027A 8794T 8860G 11365C 11719A 12007A 12705T 14766T 15326G 16111T 16223T 16265G 16290T 16319A 16362C | L28: 309.1CT 310C 514d 515d 3106d 3107C 16212G | N28: Gilbert et al. 2008
A29: EU725615.2 | B29: A2b (A2b1) | C29: A2b1 | D29: A73G, T146C, A153G, A235G, A263G, C309CCT, T310C, CA514d, A663G, A750G, A1438G, A1736G, A2706G, T4248C, A4769G, A4824G, C7028T, G8027A, C8794T, A8860G, T11365C, G11719A, G12007A, C12705T, C14766T, A15326G, C16111T, C16223T, A16265G, C16290T, G16319A, T16362C | E29: 73G, 146C, 153G, 235G, 263G, 309.1CT, 310C, 514d, 515d, 663G, 750G, 1438G, 1736G, 2706G, 3106d, 3107C, 4248C, 4769G, 4824G, 7028T, 8027A, 8794T, 8860G, 11365C, 11719A, 12007A, 12705T, 14766T, 15326G, 16111T, 16223T, 16265G, 16290T, 16319A, 16362C | F29: 32 | G29: 1-16569 | H29: 16569 | I29: 0.9859 | K29: 73G 146C 152C! 153G 235G 263G 663G 750G 1438G 1736G 2706G 4248C 4769G 4824G 7028T 8027A 8794T 8860G 11365C 11719A 12007A 12705T 14766T 15326G 16111T 16223T 16265G 16290T 16319A 16362C | L29: 309.1CT 310C 514d 515d 3106d 3107C | N29: Gilbert et al. 2008
A30: EU725616.2 | B30: A2a (A2a3) | C30: A2a3 | D30: A73G, T146C, A153G, A235G, A263G, C309CCT, T310C, CA514d, A663G, A750G, A1438G, A1736G, A2706G, C3330T, T4248C, A4769G, A4824G, C7028T, G8027A, C8794T, A8860G, G11719A, G12007A, C12705T, C14766T, A15326G, C16111T, C16192T, C16223T, C16290T, T16311C, G16319A, T16362C | E30: 73G, 146C, 153G, 235G, 263G, 309.1CT, 310C, 514d, 515d, 663G, 750G, 1438G, 1736G, 2706G, 3106d, 3107C, 3330T, 4248C, 4769G, 4824G, 7028T, 8027A, 8794T, 8860G, 11719A, 12007A, 12705T, 14766T, 15326G, 16111T, 16192T, 16223T, 16290T, 16311C, 16319A, 16362C | F30: 33 | G30: 1-16569 | H30: 16569 | I30: 0.9861 | K30: 73G 146C 152C! 153G 235G 263G 663G 750G 1438G 1736G 2706G 3330T 4248C 4769G 4824G 7028T 8027A 8794T 8860G 11719A 12007A 12705T 14766T 15326G 16111T 16192T 16223T 16290T 16311C 16319A 16362C | L30: 309.1CT 310C 514d 515d 3106d 3107C | N30: Gilbert et al. 2008
A31: EU725617.2 | B31: A2b (A2b1) | C31: A2b1 | D31: A73G, T146C, A153G, A235G, A263G, C309CCT, T310C, CA514d, A663G, A750G, A1438G, A1736G, A2706G, T4248C, A4769G, A4824G, C7028T, G8027A, C8794T, A8860G, T11365C, G11719A, G12007A, C12705T, C14766T, A15326G, C16111T, C16223T, A16265G, C16290T, G16319A, T16362C | E31: 73G, 146C, 153G, 235G, 263G, 309.1CT, 310C, 514d, 515d, 663G, 750G, 1438G, 1736G, 2706G, 3106d, 3107C, 4248C, 4769G, 4824G, 7028T, 8027A, 8794T, 8860G, 11365C, 11719A, 12007A, 12705T, 14766T, 15326G, 16111T, 16223T, 16265G, 16290T, 16319A, 16362C | F31: 32 | G31: 1-16569 | H31: 16569 | I31: 0.9859 | K31: 73G 146C 152C! 153G 235G 263G 663G 750G 1438G 1736G 2706G 4248C 4769G 4824G 7028T 8027A 8794T 8860G 11365C 11719A 12007A 12705T 14766T 15326G 16111T 16223T 16265G 16290T 16319A 16362C | L31: 309.1CT 310C 514d 515d 3106d 3107C | N31: Gilbert et al. 2008
A32: EU725618.2 | B32: A2a (A2a) | C32: A2a | D32: A73G, T146C, A153G, A235G, A263G, C309CCT, T310C, CA514d, A663G, A750G, A1438G, A1736G, A2706G, C3330T, T4248C, A4769G, A4824G, C7028T, C7633T, G8027A, C8794T, A8860G, G11719A, G12007A, C12705T, C14766T, A15326G, C16111T, C16192T, C16223T, C16290T, G16319A, T16362C | E32: 73G, 146C, 153G, 235G, 263G, 309.1CT, 310C, 514d, 515d, 663G, 750G, 1438G, 1736G, 2706G, 3106d, 3107C, 3330T, 4248C, 4769G, 4824G, 7028T, 7633T, 8027A, 8794T, 8860G, 11719A, 12007A, 12705T, 14766T, 15326G, 16111T, 16192T, 16223T, 16290T, 16319A, 16362C | F32: 33 | G32: 1-16569 | H32: 16569 | I32: 0.986 | K32: 73G 146C 152C! 153G 235G 263G 663G 750G 1438G 1736G 2706G 3330T 4248C 4769G 4824G 7028T 8027A 8794T 8860G 11719A 12007A 12705T 14766T 15326G 16111T 16192T 16223T 16290T 16319A 16362C | L32: 309.1CT 310C 514d 515d 3106d 3107C 7633T | N32: Gilbert et al. 2008
A33: EU725619.2 | B33: A2a (A2a) | C33: A2a | D33: A73G, T146C, A153G, A235G, A263G, C309CCT, T310C, CA514d, A663G, A750G, A1438G, A1736G, A2706G, C3330T, T4248C, A4769G, A4824G, C7028T, C7633T, G8027A, C8794T, A8860G, G11719A, G12007A, C12705T, C14766T, A15326G, C16111T, C16192T, C16223T, C16290T, G16319A, T16362C | E33: 73G, 146C, 153G, 235G, 263G, 309.1CT, 310C, 514d, 515d, 663G, 750G, 1438G, 1736G, 2706G, 3106d, 3107C, 3330T, 4248C, 4769G, 4824G, 7028T, 7633T, 8027A, 8794T, 8860G, 11719A, 12007A, 12705T, 14766T, 15326G, 16111T, 16192T, 16223T, 16290T, 16319A, 16362C | F33: 33 | G33: 1-16569 | H33: 16569 | I33: 0.986 | K33: 73G 146C 152C! 153G 235G 263G 663G 750G 1438G 1736G 2706G 3330T 4248C 4769G 4824G 7028T 8027A 8794T 8860G 11719A 12007A 12705T 14766T 15326G 16111T 16192T 16223T 16290T 16319A 16362C | L33: 309.1CT 310C 514d 515d 3106d 3107C 7633T | N33: Gilbert et al. 2008
A34: EU725620.2 | B34: A2b (A2b1) | C34: A2b1 | D34: A73G, T146C, A153G, A235G, A263G, C309CCT, T310C, CA514d, A663G, A750G, A1438G, A1736G, A2706G, T4248C, A4769G, A4824G, C7028T, G8027A, C8794T, A8860G, T11365C, G11719A, G12007A, C12705T, C14766T, A15326G, C16111T, C16223T, A16265G, C16290T, G16319A, T16362C | E34: 73G, 146C, 153G, 235G, 263G, 309.1CT, 310C, 514d, 515d, 663G, 750G, 1438G, 1736G, 2706G, 3106d, 3107C, 4248C, 4769G, 4824G, 7028T, 8027A, 8794T, 8860G, 11365C, 11719A, 12007A, 12705T, 14766T, 15326G, 16111T, 16223T, 16265G, 16290T, 16319A, 16362C | F34: 32 | G34: 1-16569 | H34: 16569 | I34: 0.9859 | K34: 73G 146C 152C! 153G 235G 263G 663G 750G 1438G 1736G 2706G 4248C 4769G 4824G 7028T 8027A 8794T 8860G 11365C 11719A 12007A 12705T 14766T 15326G 16111T 16223T 16265G 16290T 16319A 16362C | L34: 309.1CT 310C 514d 515d 3106d 3107C | N34: Gilbert et al. 2008
A35: EU725621.2 | B35: D2a (D2a1) | C35: D2a1 | D35: A73G, A263G, C315CC, T489C, A750G, A1438G, A2706G, G3010A, G3316A, A4769G, C4883T, C5178A, C7028T, C7493T, C8414T, A8701G, C8703T, A8860G, C9536T, T9540C, A9667G, A10398G, C10400T, T10873C, C11215T, G11719A, A11959G, C12705T, G14226A, C14668T, C14766T, T14783C, G15043A, G15301A, A15326G, T16092C, G16129A, C16223T, T16271C, T16362C | E35: 73G, 263G, 310.1C, 489C, 750G, 1438G, 2706G, 3010A, 3106d, 3107C, 3316A, 4769G, 4883T, 5178A, 7028T, 7493T, 8414T, 8701G, 8703T, 8860G, 9536T, 9540C, 9667G, 10398G, 10400T, 10873C, 11215T, 11234Y, 11719A, 11959G, 12705T, 14226A, 14668T, 14766T, 14783C, 15043A, 15301A, 15326G, 16092C, 16129A, 16223T, 16271C, 16362C | F35: 40 | G35: 1-16569 | H35: 16569 | I35: 1 | K35: 73G 263G 489C 750G 1438G 2706G 3010A 3316A 4769G 4883T 5178A 7028T 7493T 8414T 8701G 8703T 8860G 9536T 9540C 9667G 10398G 10400T 10873C 11215T 11719A 11959G 12705T 14668T 14766T 14783C 15043A 15301A 15326G 16092C 16129A 16223T 16271C 16362C | L35: 310.1C 3106d 3107C 11234Y 14226A | M35: 14226A [R150C| Codon 1 | ND6 ] | N35: Gilbert et al. 2008
A36: KF874333.1 | B36: A2a (A2a) | C36: A2a | D36: A73G, T146C, A153G, A235G, A263G, CA514d, A663G, A750G, A1438G, A1736G, A2706G, C3330T, T4248C, A4769G, A4824G, C7028T, G8027A, C8794T, A8860G, G11719A, G12007A, C12705T, G14560A, C14766T, A15326G, C16111T, C16192T, C16223T, C16290T, G16319A, T16362C | E36: 73G, 146C, 153G, 235G, 263G, 514d, 515d, 663G, 750G, 1438G, 1736G, 2706G, 3106d, 3107C, 3330T, 4248C, 4769G, 4824G, 7028T, 8027A, 8794T, 8860G, 11719A, 12007A, 12705T, 14560A, 14766T, 15326G, 16111T, 16192T, 16223T, 16290T, 16319A, 16362C | F36: 31 | G36: 1-16569 | H36: 16569 | I36: 0.9875 | K36: 73G 146C 152C! 153G 235G 263G 663G 750G 1438G 1736G 2706G 3330T 4248C 4769G 4824G 7028T 8027A 8794T 8860G 11719A 12007A 12705T 14766T 15326G 16111T 16192T 16223T 16290T 16319A 16362C | L36: 514d 515d 3106d 3107C 14560A | N36: Dryomov et al. 2015
A37: KF874334.1 | B37: A2a (A2a) | C37: A2a | D37: A73G, T146C, A153G, A235G, A263G, CA514d, A663G, A750G, A1438G, A1736G, A2706G, C3330T, T3338C, T4248C, A4769G, A4824G, C7028T, G8027A, C8794T, A8860G, G11719A, G12007A, C12705T, G14560A, C14766T, A15326G, C16111T, C16192T, C16223T, C16290T, G16319A, T16362C | E37: 73G, 146C, 153G, 235G, 263G, 514d, 515d, 663G, 750G, 1438G, 1736G, 2706G, 3106d, 3107C, 3330T, 3338C, 4248C, 4769G, 4824G, 7028T, 8027A, 8794T, 8860G, 11719A, 12007A, 12705T, 14560A, 14766T, 15326G, 16111T, 16192T, 16223T, 16290T, 16319A, 16362C | F37: 32 | G37: 1-16569 | H37: 16569 | I37: 0.9705 | K37: 73G 146C 152C! 153G 235G 263G 663G 750G 1438G 1736G 2706G 3330T 4248C 4769G 4824G 7028T 8027A 8794T 8860G 11719A 12007A 12705T 14766T 15326G 16111T 16192T 16223T 16290T 16319A 16362C | L37: 514d 515d 3106d 3107C 3338C 14560A | M37: 3338C [V11A| Codon 2 | ND1 ] | N37: Dryomov et al. 2015
A38: KF874335.1 | B38: A2a (A2a) | C38: A2a | D38: A73G, T146C, A153G, A235G, A263G, CA514d, A663G, A750G, A1438G, A1736G, A2706G, C3330T, T4248C, A4769G, A4824G, C7028T, G8027A, C8794T, A8860G, G11719A, G12007A, C12705T, G14560A, C14766T, A15326G, C16111T, C16192T, C16223T, C16290T, G16319A, T16362C | E38: 73G, 146C, 153G, 235G, 263G, 514d, 515d, 663G, 750G, 1438G, 1736G, 2706G, 3106d, 3107C, 3330T, 4248C, 4769G, 4824G, 7028T, 8027A, 8794T, 8860G, 11719A, 12007A, 12705T, 14560A, 14766T, 15326G, 16111T, 16192T, 16223T, 16290T, 16319A, 16362C | F38: 31 | G38: 1-16569 | H38: 16569 | I38: 0.9875 | K38: 73G 146C 152C! 153G 235G 263G 663G 750G 1438G 1736G 2706G 3330T 4248C 4769G 4824G 7028T 8027A 8794T 8860G 11719A 12007A 12705T 14766T 15326G 16111T 16192T 16223T 16290T 16319A 16362C | L38: 514d 515d 3106d 3107C 14560A | N38: Dryomov et al. 2015
A39: KF874336.1 | B39: A2a (A2a) | C39: A2a | D39: A73G, T146C, A153G, A235G, A263G, CA514d, A663G, A750G, A1438G, A1736G, A2706G, C3330T, T4248C, A4769G, A4824G, C7028T, G8027A, C8794T, A8860G, G11719A, G12007A, C12705T, G14560A, C14766T, A15326G, C16111T, C16192T, C16223T, C16290T, G16319A, T16362C | E39: 73G, 146C, 153G, 235G, 263G, 514d, 515d, 663G, 750G, 1438G, 1736G, 2706G, 3106d, 3107C, 3330T, 4248C, 4769G, 4824G, 7028T, 8027A, 8794T, 8860G, 11719A, 12007A, 12705T, 14560A, 14766T, 15326G, 16111T, 16192T, 16223T, 16290T, 16319A, 16362C | F39: 31 | G39: 1-16569 | H39: 16569 | I39: 0.9875 | K39: 73G 146C 152C! 153G 235G 263G 663G 750G 1438G 1736G 2706G 3330T 4248C 4769G 4824G 7028T 8027A 8794T 8860G 11719A 12007A 12705T 14766T 15326G 16111T 16192T 16223T 16290T 16319A 16362C | L39: 514d 515d 3106d 3107C 14560A | N39: Dryomov et al. 2015
A40: KF874337.1 | B40: A2a (A2a) | C40: A2a | D40: A73G, T146C, A153G, A235G, A263G, CA514d, A663G, A750G, A1438G, A1736G, A2706G, C3330T, T4248C, A4769G, A4824G, C7028T, G8027A, C8794T, A8860G, G11719A, G12007A, C12705T, C14766T, A15326G, C16111T, C16192T, C16223T, C16290T, G16319A, T16362C | E40: 73G, 146C, 153G, 235G, 263G, 514d, 515d, 663G, 750G, 1438G, 1736G, 2706G, 3106d, 3107C, 3330T, 4248C, 4769G, 4824G, 7028T, 8027A, 8794T, 8860G, 11719A, 12007A, 12705T, 14766T, 15326G, 16111T, 16192T, 16223T, 16290T, 16319A, 16362C | F40: 30 | G40: 1-16569 | H40: 16569 | I40: 1 | K40: 73G 146C 152C! 153G 235G 263G 663G 750G 1438G 1736G 2706G 3330T 4248C 4769G 4824G 7028T 8027A 8794T 8860G 11719A 12007A 12705T 14766T 15326G 16111T 16192T 16223T 16290T 16319A 16362C | L40: 514d 515d 3106d 3107C | N40: Dryomov et al. 2015
A41: KF874338.1 | B41: A2a (A2a) | C41: A2a | D41: A73G, T146C, A153G, A235G, A263G, CA514d, A663G, A750G, A1438G, A1736G, A2706G, C3330T, T3338C, T4248C, A4769G, A4824G, C7028T, G8027A, C8794T, A8860G, G11719A, G12007A, C12705T, G14560A, C14766T, A15326G, C16111T, C16192T, C16223T, C16290T, G16319A, T16362C | E41: 73G, 146C, 153G, 235G, 263G, 514d, 515d, 663G, 750G, 1438G, 1736G, 2706G, 3106d, 3107C, 3330T, 3338C, 4248C, 4769G, 4824G, 7028T, 8027A, 8794T, 8860G, 11719A, 12007A, 12705T, 14560A, 14766T, 15326G, 16111T, 16192T, 16223T, 16290T, 16319A, 16362C | F41: 32 | G41: 1-16569 | H41: 16569 | I41: 0.9705 | K41: 73G 146C 152C! 153G 235G 263G 663G 750G 1438G 1736G 2706G 3330T 4248C 4769G 4824G 7028T 8027A 8794T 8860G 11719A 12007A 12705T 14766T 15326G 16111T 16192T 16223T 16290T 16319A 16362C | L41: 514d 515d 3106d 3107C 3338C 14560A | M41: 3338C [V11A| Codon 2 | ND1 ] | N41: Dryomov et al. 2015
A42: KF874339.1 | B42: A2a (A2a) | C42: A2a | D42: A73G, T146C, A153G, A235G, A263G, CA514d, A663G, A750G, A1438G, A1736G, A2706G, C3330T, T3338C, T4248C, A4769G, A4824G, C7028T, G8027A, C8794T, A8860G, G11719A, G12007A, C12705T, G14560A, C14766T, A15326G, C16111T, C16192T, C16223T, C16290T, G16319A, T16362C | E42: 73G, 146C, 153G, 235G, 263G, 514d, 515d, 663G, 750G, 1438G, 1736G, 2706G, 3106d, 3107C, 3330T, 3338C, 4248C, 4769G, 4824G, 7028T, 8027A, 8794T, 8860G, 11719A, 12007A, 12705T, 14560A, 14766T, 15326G, 16111T, 16192T, 16223T, 16290T, 16319A, 16362C | F42: 32 | G42: 1-16569 | H42: 16569 | I42: 0.9705 | K42: 73G 146C 152C! 153G 235G 263G 663G 750G 1438G 1736G 2706G 3330T 4248C 4769G 4824G 7028T 8027A 8794T 8860G 11719A 12007A 12705T 14766T 15326G 16111T 16192T 16223T 16290T 16319A 16362C | L42: 514d 515d 3106d 3107C 3338C 14560A | M42: 3338C [V11A| Codon 2 | ND1 ] | N42: Dryomov et al. 2015
A43: KF874343.1 | B43: A2a (A2a) | C43: A2a | D43: A73G, T146C, A153G, A235G, A263G, CA514d, A663G, A750G, A1438G, A1736G, A2706G, C3330T, T4248C, A4769G, A4824G, C7028T, G8027A, C8794T, A8860G, G11719A, G12007A, C12705T, C14766T, A15326G, C16111T, C16192T, C16223T, C16290T, G16319A, T16362C | E43: 73G, 146C, 153G, 235G, 263G, 514d, 515d, 663G, 750G, 1438G, 1736G, 2706G, 3106d, 3107C, 3330T, 4248C, 4769G, 4824G, 7028T, 8027A, 8794T, 8860G, 11719A, 12007A, 12705T, 14766T, 15326G, 16111T, 16192T, 16223T, 16290T, 16319A, 16362C | F43: 30 | G43: 1-16569 | H43: 16569 | I43: 1 | K43: 73G 146C 152C! 153G 235G 263G 663G 750G 1438G 1736G 2706G 3330T 4248C 4769G 4824G 7028T 8027A 8794T 8860G 11719A 12007A 12705T 14766T 15326G 16111T 16192T 16223T 16290T 16319A 16362C | L43: 514d 515d 3106d 3107C | N43: Dryomov et al. 2015
A44: KF874349.1 | B44: A2b (A2b1) | C44: A2b1 | D44: A73G, T146C, A153G, A235G, A263G, CA514d, A663G, A750G, A1438G, A1736G, A2706G, T4248C, A4769G, A4824G, C7028T, G8027A, C8794T, A8860G, T11365C, G11719A, G12007A, G12651A, C12705T, C14766T, A15326G, C16111T, C16223T, A16265G, C16290T, G16319A, T16362C, T16519C | E44: 73G, 146C, 153G, 235G, 263G, 514d, 515d, 663G, 750G, 1438G, 1736G, 2706G, 3106d, 3107C, 4248C, 4769G, 4824G, 7028T, 8027A, 8794T, 8860G, 11365C, 11719A, 12007A, 12651A, 12705T, 14766T, 15326G, 16111T, 16223T, 16265G, 16290T, 16319A, 16362C, 16519C | F44: 32 | G44: 1-16569 | H44: 16569 | I44: 0.9838 | K44: 73G 146C 152C! 153G 235G 263G 663G 750G 1438G 1736G 2706G 4248C 4769G 4824G 7028T 8027A 8794T 8860G 11365C 11719A 12007A 12705T 14766T 15326G 16111T 16223T 16265G 16290T 16319A 16362C | L44: 514d 515d 3106d 3107C 12651A 16519C | N44: Dryomov et al. 2015
A45: KF874350.1 | B45: A2b (A2b1) | C45: A2b1 | D45: A73G, T146C, A153G, A235G, A263G, CA514d, A533G, A547G, A663G, A750G, A1438G, A1736G, A2706G, T4248C, A4769G, A4824G, C7028T, G8027A, C8794T, A8860G, T11365C, G11719A, G12007A, C12705T, C14766T, A15326G, C16111T, C16223T, A16265G, C16290T, G16319A, T16362C | E45: 73G, 146C, 153G, 235G, 263G, 514d, 515d, 533G, 547G, 663G, 750G, 1438G, 1736G, 2706G, 3106d, 3107C, 4248C, 4769G, 4824G, 7028T, 8027A, 8794T, 8860G, 11365C, 11719A, 12007A, 12705T, 14766T, 15326G, 16111T, 16223T, 16265G, 16290T, 16319A, 16362C | F45: 32 | G45: 1-16569 | H45: 16569 | I45: 0.9638 | K45: 73G 146C 152C! 153G 235G 263G 663G 750G 1438G 1736G 2706G 4248C 4769G 4824G 7028T 8027A 8794T 8860G 11365C 11719A 12007A 12705T 14766T 15326G 16111T 16223T 16265G 16290T 16319A 16362C | L45: 514d 515d 533G 547G 3106d 3107C | N45: Dryomov et al. 2015
A46: KF874360.1 | B46: C4b (C4b2a) | C46: C4b2a | D46: A73G, A248d, A263G, T489C, A750G, A1438G, A2706G, T3552A, A3816G, A4715G, A4769G, G6026A, C7028T, C7196A, G8584A, A8701G, A8860G, T9540C, A9545G, A10398G, C10400T, T10873C, G11719A, G11914A, G11969A, C12705T, A13263G, T14318C, C14766T, T14783C, G15043A, T15204C, G15301A, A15326G, A15487T, T16124C, C16223T, T16298C, T16311C, A16318T, C16327T, T16519C | E46: 73G, 248d, 263G, 489C, 750G, 1438G, 2706G, 3106d, 3107C, 3552A, 3816G, 4715G, 4769G, 6026A, 7028T, 7196A, 8584A, 8701G, 8860G, 9540C, 9545G, 10398G, 10400T, 10873C, 11719A, 11914A, 11969A, 12705T, 13263G, 14318C, 14766T, 14783C, 15043A, 15204C, 15301A, 15326G, 15487T, 16124C, 16223T, 16298C, 16311C, 16318T, 16327T, 16519C | F46: 42 | G46: 1-16569 | H46: 16569 | I46: 0.9773 | J46: 249d 2232.1A | K46: 73G 263G 489C 750G 1438G 2706G 3552A 3816G 4715G 4769G 6026A 7028T 7196A 8584A 8701G 8860G 9540C 9545G 10398G 10400T 10873C 11719A 11914A 11969A 12705T 13263G 14318C 14766T 14783C 15043A 15204C 15301A 15326G 15487T 16124C 16223T 16298C 16318T 16327T | L46: 248d 3106d 3107C 16311C 16519C | N46: Dryomov et al. 2015
A47: KF874367.1 | B47: D2a (D2a1b) | C47: D2a1b | D47: A73G, A263G, T489C, A750G, A1438G, A2706G, G3010A, G3316A, A4769G, C4883T, C5178A, C7028T, C7493T, C8414T, A8701G, C8703T, A8860G, C9536T, T9540C, A9667G, A10381G, A10398G, C10400T, T10873C, C11215T, G11719A, A11959G, C12705T, C14668T, C14766T, T14783C, G15043A, G15301A, A15326G, C16111T, G16129A, C16223T, T16271C, T16362C, C16366T | E47: 73G, 263G, 489C, 750G, 1438G, 2706G, 3010A, 3106d, 3107C, 3316A, 4769G, 4883T, 5178A, 7028T, 7493T, 8414T, 8701G, 8703T, 8860G, 9536T, 9540C, 9667G, 10381G, 10398G, 10400T, 10873C, 11215T, 11719A, 11959G, 12705T, 14668T, 14766T, 14783C, 15043A, 15301A, 15326G, 16111T, 16129A, 16223T, 16271C, 16362C, 16366T | F47: 40 | G47: 1-16569 | H47: 16569 | I47: 0.9917 | J47: 16092C | K47: 73G 263G 489C 750G 1438G 2706G 3010A 3316A 4769G 4883T 5178A 7028T 7493T 8414T 8701G 8703T 8860G 9536T 9540C 9667G 10398G 10400T 10873C 11215T 11719A 11959G 12705T 14668T 14766T 14783C 15043A 15301A 15326G 16111T 16129A 16223T 16271C 16362C 16366T | L47: 3106d 3107C 10381G | M47: 10381G [Q108R| Codon 2 | ND3 ] | N47: Dryomov et al. 2015
A48: KF874368.1 | B48: D2a (D2a1b) | C48: D2a1b | D48: A73G, A263G, T489C, A750G, A1438G, A2706G, G3010A, G3316A, A4769G, C4883T, C5178A, C7028T, A7403G, C7493T, C8414T, A8701G, C8703T, A8860G, C9536T, T9540C, A9667G, A10398G, C10400T, T10873C, C11215T, G11719A, A11959G, C12705T, C14668T, C14766T, T14783C, G15043A, G15301A, A15326G, C16111T, G16129A, C16223T, T16271C, T16362C, C16366T | E48: 73G, 263G, 489C, 750G, 1438G, 2706G, 3010A, 3106d, 3107C, 3316A, 4769G, 4883T, 5178A, 7028T, 7403G, 7493T, 8414T, 8701G, 8703T, 8860G, 9536T, 9540C, 9667G, 10398G, 10400T, 10873C, 11215T, 11719A, 11959G, 12705T, 14668T, 14766T, 14783C, 15043A, 15301A, 15326G, 16111T, 16129A, 16223T, 16271C, 16362C, 16366T | F48: 40 | G48: 1-16569 | H48: 16569 | I48: 0.9808 | J48: 16092C | K48: 73G 263G 489C 750G 1438G 2706G 3010A 3316A 4769G 4883T 5178A 7028T 7493T 8414T 8701G 8703T 8860G 9536T 9540C 9667G 10398G 10400T 10873C 11215T 11719A 11959G 12705T 14668T 14766T 14783C 15043A 15301A 15326G 16111T 16129A 16223T 16271C 16362C 16366T | L48: 3106d 3107C 7403G | N48: Dryomov et al. 2015
A49: KF874369.1 | B49: D2a (D2a1b) | C49: D2a1b | D49: A73G, A263G, T489C, A750G, A1438G, A2706G, G3010A, G3316A, A4769G, C4883T, C5178A, C7028T, A7403G, C7493T, C8414T, A8701G, C8703T, A8860G, C9536T, T9540C, A9667G, A10398G, C10400T, T10873C, C11215T, G11719A, A11959G, C12705T, C14668T, C14766T, T14783C, G15043A, G15301A, A15326G, C16111T, G16129A, C16223T, T16271C, T16362C, C16366T | E49: 73G, 263G, 489C, 750G, 1438G, 2706G, 3010A, 3106d, 3107C, 3316A, 4769G, 4883T, 5178A, 7028T, 7403G, 7493T, 8414T, 8701G, 8703T, 8860G, 9536T, 9540C, 9667G, 10398G, 10400T, 10873C, 11215T, 11719A, 11959G, 12705T, 14668T, 14766T, 14783C, 15043A, 15301A, 15326G, 16111T, 16129A, 16223T, 16271C, 16362C, 16366T | F49: 40 | G49: 1-16569 | H49: 16569 | I49: 0.9808 | J49: 16092C | K49: 73G 263G 489C 750G 1438G 2706G 3010A 3316A 4769G 4883T 5178A 7028T 7493T 8414T 8701G 8703T 8860G 9536T 9540C 9667G 10398G 10400T 10873C 11215T 11719A 11959G 12705T 14668T 14766T 14783C 15043A 15301A 15326G 16111T 16129A 16223T 16271C 16362C 16366T | L49: 3106d 3107C 7403G | N49: Dryomov et al. 2015
A50: KF874373.1 | B50: D2a (D2a2) | C50: D2a2 | D50: A73G, A263G, T489C, A750G, A1438G, A2706G, G3010A, G3316A, A4769G, C4883T, G4991A, C5178A, C7028T, C7493T, C8414T, A8701G, C8703T, A8860G, C9536T, T9540C, A10398G, C10400T, T10873C, C11215T, G11719A, A11959G, C12705T, C14668T, C14766T, T14783C, G15043A, G15301A, A15326G, G16129A, C16223T, T16271C, T16362C | E50: 73G, 263G, 489C, 750G, 1438G, 2706G, 3010A, 3106d, 3107C, 3316A, 4769G, 4883T, 4991A, 5178A, 7028T, 7493T, 8414T, 8701G, 8703T, 8860G, 9536T, 9540C, 10398G, 10400T, 10873C, 11215T, 11719A, 11959G, 12705T, 14668T, 14766T, 14783C, 15043A, 15301A, 15326G, 16129A, 16223T, 16271C, 16362C | F50: 37 | G50: 1-16569 | H50: 16569 | I50: 0.9914 | J50: 16092C | K50: 73G 263G 489C 750G 1438G 2706G 3010A 3316A 4769G 4883T 4991A 5178A 7028T 7493T 8414T 8701G 8703T 8860G 9536T 9540C 10398G 10400T 10873C 11215T 11719A 11959G 12705T 14668T 14766T 14783C 15043A 15301A 15326G 16129A 16223T 16271C 16362C | L50: 3106d 3107C | N50: Dryomov et al. 2015
E51: Average | F51: =AVERAGE(F2:F50) -> 35.306122
E52: Max | F52: =MAX(F2:F50) -> 47
E53: Min | F53: =MIN(F2:F50) -> 30
E54: Mode | F54: =MODE(F2:F50) -> 32

Sheet Phamtom mutations
A1: Position | B1: Amount | C1: Samples | D1: Soares Score
A2: 3106d | B2: 47 | C2: AB626609.1 [X2e2b]; AB626610.1 [H3u1]; EF114270.1 [F1a1'4]; EF114273.1 [R9b1b]; EF114276.1 [D4j3a]; EF114279.1 [A14]; EF114282.1 [A13]; EF114285.1 [B5a2a1a]; EF114288.1 [F1a1a1]; EF429133.1 [B4b1a2]; EF429136.1 [C7a2a]; EF429139.1 [B4c1b2a1]; EF660933.1 [H1e5a]; EF660934.1 [H1h1]; EF660935.1 [HV1a2]; EF660936.1 [HV1a'b'c]; EF660937.1 [N1a3a3]; EF660938.1 [H3r1]; EF660939.1 [HV4a1]; EF660940.1 [H5a4a1]; EF660941.1 [T2c1a2]; EF660942.1 [X2n]; EF660943.1 [H]; EF660944.1 [N1a1a1a1]; EF660945.1 [HV22]; EF660946.1 [V2]; EF660947.1 [H7a1a]; EF660948.1 [H13a2b1]; EF660949.1 [H1e1]; EF660950.1 [U5a2c2]; EF660951.1 [H44a]; EF660952.1 [J1c2]; GU592034.1 [J1c2c2a]; GU592035.1 [H1ay]; GU592036.1 [R0a1a3]; GU592037.1 [H1g1]; GU592038.1 [H11a5]; GU592039.1 [H5r]; GU592040.1 [H65a]; GU592041.1 [K1a1b1c]; GU592042.1 [H3q1]; GU592043.1 [H5b]; GU592044.1 [H2a]; GU592045.1 [HV11a]; GU592046.1 [M35b2]; GU592047.1 [J1c11a]; GU592048.1 [HV] | D2: 0
A3: 3107C | B3: 47 | C3: AB626609.1 [X2e2b]; AB626610.1 [H3u1]; EF114270.1 [F1a1'4]; EF114273.1 [R9b1b]; EF114276.1 [D4j3a]; EF114279.1 [A14]; EF114282.1 [A13]; EF114285.1 [B5a2a1a]; EF114288.1 [F1a1a1]; EF429133.1 [B4b1a2]; EF429136.1 [C7a2a]; EF429139.1 [B4c1b2a1]; EF660933.1 [H1e5a]; EF660934.1 [H1h1]; EF660935.1 [HV1a2]; EF660936.1 [HV1a'b'c]; EF660937.1 [N1a3a3]; EF660938.1 [H3r1]; EF660939.1 [HV4a1]; EF660940.1 [H5a4a1]; EF660941.1 [T2c1a2]; EF660942.1 [X2n]; EF660943.1 [H]; EF660944.1 [N1a1a1a1]; EF660945.1 [HV22]; EF660946.1 [V2]; EF660947.1 [H7a1a]; EF660948.1 [H13a2b1]; EF660949.1 [H1e1]; EF660950.1 [U5a2c2]; EF660951.1 [H44a]; EF660952.1 [J1c2]; GU592034.1 [J1c2c2a]; GU592035.1 [H1ay]; GU592036.1 [R0a1a3]; GU592037.1 [H1g1]; GU592038.1 [H11a5]; GU592039.1 [H5r]; GU592040.1 [H65a]; GU592041.1 [K1a1b1c]; GU592042.1 [H3q1]; GU592043.1 [H5b]; GU592044.1 [H2a]; GU592045.1 [HV11a]; GU592046.1 [M35b2]; GU592047.1 [J1c11a]; GU592048.1 [HV] | D3: 0
A4: 310.1C | B4: 39 | C4: AB626610.1 [H3u1]; DQ143196.1 [H2a2a]; DQ143197.1 [H2a2a]; EF114276.1 [D4j3a]; EF114279.1 [A14]; EF114285.1 [B5a2a1a]; EF660933.1 [H1e5a]; EF660935.1 [HV1a2]; EF660937.1 [N1a3a3]; EF660938.1 [H3r1]; EF660940.1 [H5a4a1]; EF660941.1 [T2c1a2]; EF660944.1 [N1a1a1a1]; EF660946.1 [V2]; EF660948.1 [H13a2b1]; EF660949.1 [H1e1]; EF660950.1 [U5a2c2]; EF660951.1 [H44a]; EF660952.1 [J1c2]; GU592034.1 [J1c2c2a]; GU592035.1 [H1ay]; GU592039.1 [H5r]; GU592040.1 [H65a]; GU592042.1 [H3q1]; GU592044.1 [H2a]; GU592045.1 [HV11a]; GU592046.1 [M35b2]; GU592047.1 [J1c11a]; HG825991.1 [H2a2a]; HG825992.1 [H2a2a]; HG825993.1 [H2a2a]; HG825995.1 [H2a2a]; HG825996.1 [H2a2a]; HG825997.1 [H2a2a]; HG825999.1 [H2a2a]; HG826001.1 [H2a2a]; HG826002.1 [H2a2a]; HG826003.1 [H2a2a]; HG826004.1 [H2a2a] | D4: 0
A5: 514d | B5: 9 | C5: EF114270.1 [F1a1'4]; EF114279.1 [A14]; EF114282.1 [A13]; EF114285.1 [B5a2a1a]; EF114288.1 [F1a1a1]; EF429133.1 [B4b1a2]; EF660934.1 [H1h1]; EF660947.1 [H7a1a]; GU592035.1 [H1ay] | D5: 0
A6: 515d | B6: 9 | C6: EF114270.1 [F1a1'4]; EF114279.1 [A14]; EF114282.1 [A13]; EF114285.1 [B5a2a1a]; EF114288.1 [F1a1a1]; EF429133.1 [B4b1a2]; EF660934.1 [H1h1]; EF660947.1 [H7a1a]; GU592035.1 [H1ay] | D6: 0
A7: 398d | B7: 8 | C7: HG825992.1 [H2a2a]; HG825993.1 [H2a2a]; HG825994.1 [H2a2a]; HG825995.1 [H2a2a]; HG825996.1 [H2a2a]; HG825998.1 [H2a2a]; HG826002.1 [H2a2a]; HG826004.1 [H2a2a] | D7: 0
A8: 248d | B8: 6 | C8: EF114270.1 [F1a1'4]; EF114288.1 [F1a1a1]; EF429136.1 [C7a2a]; HG825995.1 [H2a2a]; HG826002.1 [H2a2a]; HG826004.1 [H2a2a] | D8: 0
A9: 430A | B9: 4 | C9: DQ143196.1 [H2a2a]; DQ143200.1 [J2a1a1a]; DQ143201.1 [J2a1a1a]; DQ143203.1 [J2a1a1a] | D9: 0
A10: 49T | B10: 4 | C10: DQ143198.1 [H2a2a]; DQ143199.1 [J2a1a1a]; DQ143202.1 [J2a1a1a]; DQ143203.1 [J2a1a1a] | D10: 0
A11: 16011d | B11: 4 | C11: DQ143185.1 [H2a+152 16311]; DQ143187.1 [H2a2a1]; DQ143188.1 [H2a2a1]; DQ143189.1 [H2a2a1] | D11: 0
A12: 8279d | B12: 3 | C12: EF114285.1 [B5a2a1a]; EF429133.1 [B4b1a2]; EF429139.1 [B4c1b2a1] | D12: 0
A13: 8272d | B13: 3 | C13: EF114285.1 [B5a2a1a]; EF429133.1 [B4b1a2]; EF429139.1 [B4c1b2a1] | D13: 0
... A35: 285.1A | B35: 2 | C35: HG825995.1 [H2a2a]; HG826004.1 [H2a2a] | D35: 0

Sheet Discordance report
A1: Sample | B1: Kulczynski (Quality) | C1: Hamming | D1: Jaccard | E1: Kimura2P
A2: HG825999.1 | B2: [H2a2a] | C2: [H2a2a] | D2: [H2a2a+(16235)] | E2: [H2a2a, H2a2a1g]
A3: DQ143187.1 | B3: [H2a2a1] | C3: [H2a2a1] | D3: [U2b2] | E3: [H2a2a1, H2a2a1c]
A4: DQ143185.1 | B4: [H2a+152 16311] | C4: [H2a2a1] | D4: [H2a+152 16311] | E4: [H2a2a1]
A5: DQ143203.1 | B5: [J2a1a1a] | C5: [H2a2a] | D5: [H2a2a] | E5: [H2a2a]
A6: DQ143192.1 | B6: [U7a3b] | C6: [H2a2a1] | D6: [U7a3b] | E6: [H2a2a1]
A7: DQ143205.1 | B7: [J2a1a1a] | C7: [H2a2a] | D7: [H2a2a] | E7: [H2a2a]
A8: DQ143201.1 | B8: [J2a1a1a] | C8: [H2a2a] | D8: [H2a2a] | E8: [H2a2a]
A9: HG825996.1 | B9: [H2a2a] | C9: [H2a2a] | D9: [H2a2a+(16235)] | E9: [H2a2a, H2a2a1g]
A10: DQ143194.1 | B10: [H2a2a1] | C10: [H2a2a1] | D10: [U7] | E10: [H2a2a1]
A11: DQ143207.1 | B11: [J2a1a1a] | C11: [H2a2a] | D11: [H2a2a] | E11: [H2a2a]
A12: HG826000.1 | B12: [H2a2a] | C12: [H2a2a] | D12: [U2b2] | E12: [H2a2a]
... A22: DQ143206.1 | B22: [J2a1a1a] | C22: [H2a2a] | D22: [H2a2a] | E22: [H2a2a]
